BEGIN:VCALENDAR
VERSION:2.0
PRODID:-//Drupal iCal API//EN
X-WR-CALNAME:Events items teaser
X-WR-TIMEZONE:America/Toronto
BEGIN:VTIMEZONE
TZID:America/Toronto
X-LIC-LOCATION:America/Toronto
BEGIN:DAYLIGHT
TZNAME:EDT
TZOFFSETFROM:-0500
TZOFFSETTO:-0400
DTSTART:20190310T070000
END:DAYLIGHT
BEGIN:STANDARD
TZNAME:EST
TZOFFSETFROM:-0400
TZOFFSETTO:-0500
DTSTART:20191103T060000
END:STANDARD
END:VTIMEZONE
BEGIN:VEVENT
UID:69b47ff28a2a8
DTSTART;VALUE=DATE:20191118
SEQUENCE:0
TRANSP:TRANSPARENT
DTEND;VALUE=DATE:20191123
URL:https://uwaterloo.ca/global-engagement/events/iew-free-buttons
LOCATION:SCH - South Campus Hall 200 University Avenue West Waterloo ON N2L
  3G1 Canada
SUMMARY:IEW - Free Buttons!
CLASS:PUBLIC
DESCRIPTION:FREE BUTTONS!\n\nCome say Hello! and grab a button. Buttons tha
 t say “Hello” in\ndifferent languages will be available for students\,
  staff and faculty\nto pick-up and wear during the week and beyond!
X-MICROSOFT-CDO-ALLDAYEVENT:TRUE
DTSTAMP:20260313T212154Z
END:VEVENT
END:VCALENDAR