BEGIN:VCALENDAR
VERSION:2.0
PRODID:-//Drupal iCal API//EN
X-WR-CALNAME:Events items teaser
X-WR-TIMEZONE:America/Toronto
BEGIN:VTIMEZONE
TZID:America/Toronto
X-LIC-LOCATION:America/Toronto
BEGIN:DAYLIGHT
TZNAME:EDT
TZOFFSETFROM:-0500
TZOFFSETTO:-0400
DTSTART:20190310T070000
END:DAYLIGHT
BEGIN:STANDARD
TZNAME:EST
TZOFFSETFROM:-0400
TZOFFSETTO:-0500
DTSTART:20191103T060000
END:STANDARD
END:VTIMEZONE
BEGIN:VEVENT
UID:69b47ff51d9b7
DTSTART;VALUE=DATE:20191119
SEQUENCE:0
TRANSP:TRANSPARENT
DTEND;VALUE=DATE:20191122
URL:https://uwaterloo.ca/global-engagement/events/iew-engineering-internati
 onal-fair
LOCATION:E7 - Engineering 7 200 University Ave West Waterloo ON N2L 3G1 Can
 ada
SUMMARY:IEW - Engineering International Fair
CLASS:PUBLIC
DESCRIPTION:ENGINEERING INTERNATIONAL FAIR\n\nTo celebrate International Ed
 ucation Week\, the Faculty of Engineering\nis hosting a series of events o
 pen to all faculty\, staff and students.\nYou are welcome to sign up for o
 ne or all events that appeal to you.\nThe goal of this fair is to celebr
 ate the diverse cultures\,\nethnicities and backgrounds that exist within 
 the Faculty.
X-MICROSOFT-CDO-ALLDAYEVENT:TRUE
DTSTAMP:20260313T212157Z
END:VEVENT
END:VCALENDAR