BEGIN:VCALENDAR
VERSION:2.0
PRODID:-//Drupal iCal API//EN
X-WR-CALNAME:Events items teaser
X-WR-TIMEZONE:America/Toronto
BEGIN:VTIMEZONE
TZID:America/Toronto
X-LIC-LOCATION:America/Toronto
BEGIN:DAYLIGHT
TZNAME:EDT
TZOFFSETFROM:-0500
TZOFFSETTO:-0400
DTSTART:20190310T070000
END:DAYLIGHT
BEGIN:STANDARD
TZNAME:EST
TZOFFSETFROM:-0400
TZOFFSETTO:-0500
DTSTART:20191103T060000
END:STANDARD
END:VTIMEZONE
BEGIN:VEVENT
UID:69b45b7c2531d
DTSTART;VALUE=DATE:20191118
SEQUENCE:0
TRANSP:TRANSPARENT
DTEND;VALUE=DATE:20191123
URL:https://uwaterloo.ca/global-engagement/events/iew-flavours-world
LOCATION:REN - Renison University College 240 Westmount Road North Renison 
 Cafeteria Waterloo ON N2L 3G4 Canada
SUMMARY:IEW - Flavours of the World
CLASS:PUBLIC
DESCRIPTION:FLAVOURS OF THE WORLD\n\nHungry? Enjoy different cultural cuisi
 ne each day at Renison.\n\nIn celebration of International Education Week\
 , please explore your\ntaste buds through the Renison menu this week: \n\
 nMONDAY - Flavours of Korea: miso vegetable soup\, bibimpap bowl\, beef\
 nbulgogi and Jap chae for vegetarian dish.\n\nTUESDAY - Flavours of India:
  Lentil and Vegetable soup\, Savory Rice\nPancake with Toppings\, Vegetabl
 e Biryani\, Buttered Chicken with Naan\nBread
X-MICROSOFT-CDO-ALLDAYEVENT:TRUE
DTSTAMP:20260313T184620Z
END:VEVENT
END:VCALENDAR