BEGIN:VCALENDAR
VERSION:2.0
PRODID:-//Drupal iCal API//EN
X-WR-CALNAME:Events items teaser
X-WR-TIMEZONE:America/Toronto
BEGIN:VTIMEZONE
TZID:America/Toronto
X-LIC-LOCATION:America/Toronto
BEGIN:DAYLIGHT
TZNAME:EDT
TZOFFSETFROM:-0500
TZOFFSETTO:-0400
DTSTART:20190310T070000
END:DAYLIGHT
BEGIN:STANDARD
TZNAME:EST
TZOFFSETFROM:-0400
TZOFFSETTO:-0500
DTSTART:20191103T060000
END:STANDARD
END:VTIMEZONE
BEGIN:VEVENT
UID:69b480089ccc2
DTSTART;TZID=America/Toronto:20191121T130000
SEQUENCE:0
TRANSP:TRANSPARENT
DTEND;TZID=America/Toronto:20191121T150000
URL:https://uwaterloo.ca/global-engagement/events/iew-keynote-speaker-alexa
 ndre-trudeau
LOCATION:HH - J.G. Hagey Hall of the Humanities 200 University Avenue West 
 Waterloo ON N2L 3G1 Canada
SUMMARY:IEW - Keynote Speaker: Alexandre Trudeau
CLASS:PUBLIC
DESCRIPTION:KEYNOTE SPEAKER: ALEXANDRE TRUDEAU - \"MULTILINGUALISM IN AN\n
 INCREASINGLY GLOBALIZED WORLD\"
DTSTAMP:20260313T212216Z
END:VEVENT
END:VCALENDAR