BEGIN:VCALENDAR
VERSION:2.0
PRODID:-//Drupal iCal API//EN
X-WR-CALNAME:Events items teaser
X-WR-TIMEZONE:America/Toronto
BEGIN:VTIMEZONE
TZID:America/Toronto
X-LIC-LOCATION:America/Toronto
BEGIN:DAYLIGHT
TZNAME:EDT
TZOFFSETFROM:-0500
TZOFFSETTO:-0400
DTSTART:20240310T070000
END:DAYLIGHT
BEGIN:STANDARD
TZNAME:EST
TZOFFSETFROM:-0400
TZOFFSETTO:-0500
DTSTART:20231105T060000
END:STANDARD
END:VTIMEZONE
BEGIN:VEVENT
UID:69e7bb63e24b2
DTSTART;TZID=America/Toronto:20241001T090000
SEQUENCE:0
TRANSP:TRANSPARENT
DTEND;TZID=America/Toronto:20241001T163000
URL:https://uwaterloo.ca/global-environmental-measurement-monitoring/events
 /workshop-advancing-technology-environmental-measurement
LOCATION:QNC - Quantum Nano Centre 200 University Avenue West Waterloo ON N
 2L 3G1 Canada
SUMMARY:Workshop Advancing Technology for Environmental Measurement
CLASS:PUBLIC
DESCRIPTION:For effective climate policy\, decision-makers need access to a
 ccurate\,\ntimely environmental measurements and models.\n\nJoin a one-day
  interdisciplinary workshop\, hosted by the Waterloo\nInstitute for Nanote
 chnology\, for scientists to identify challenges\nmeasuring the environmen
 t and explore ways sensing technologies can\nclose those gaps.\n \n\nRegi
 ster Today!\n[https://uwaterloo.ca/institute-nanotechnology/events/advanci
 ng-technology-environmental-measurement-workshop]
DTSTAMP:20260421T180108Z
END:VEVENT
END:VCALENDAR