BEGIN:VCALENDAR
VERSION:2.0
PRODID:-//Drupal iCal API//EN
X-WR-CALNAME:Events items teaser
X-WR-TIMEZONE:America/Toronto
BEGIN:VTIMEZONE
TZID:America/Toronto
X-LIC-LOCATION:America/Toronto
BEGIN:DAYLIGHT
TZNAME:EDT
TZOFFSETFROM:-0500
TZOFFSETTO:-0400
DTSTART:20190310T070000
END:DAYLIGHT
BEGIN:DAYLIGHT
TZNAME:EDT
TZOFFSETFROM:-0500
TZOFFSETTO:-0400
DTSTART:20150308T070000
END:DAYLIGHT
BEGIN:STANDARD
TZNAME:EST
TZOFFSETFROM:-0400
TZOFFSETTO:-0500
DTSTART:20191103T060000
END:STANDARD
BEGIN:STANDARD
TZNAME:EST
TZOFFSETFROM:-0400
TZOFFSETTO:-0500
DTSTART:20151101T060000
END:STANDARD
END:VTIMEZONE
BEGIN:VEVENT
UID:69ec3176798fc
DTSTART;TZID=America/Toronto:20191206T120000
SEQUENCE:0
TRANSP:TRANSPARENT
DTEND;TZID=America/Toronto:20191206T160000
URL:https://uwaterloo.ca/graduate-association-psychology/events/gasp-holida
 y-party
LOCATION:PAS - Psychology\, Anthropology\, Sociology 200 University Avenue 
 West PAS 3026 (ABC room) Waterloo ON N2L 3G1 Canada
SUMMARY:GASP Holiday Party
CLASS:PUBLIC
DESCRIPTION:[Two cats dressed up in holiday outfits]\n\nCome out this FRIDA
 Y\, DECEMBER 6 FROM 12-3 for a drop-in holiday\nparty. We will be holding 
 it in the ABC room (PAS 3026) and members of\nGASP will be hanging out for
  the afternoon. You can stay all afternoon\nand just for some of it. \n\n
 We will have:
DTSTAMP:20260425T031358Z
END:VEVENT
BEGIN:VEVENT
UID:69ec317685332
DTSTART;TZID=America/Toronto:20190910T190000
SEQUENCE:0
TRANSP:TRANSPARENT
DTEND;TZID=America/Toronto:20190910T190000
URL:https://uwaterloo.ca/graduate-association-psychology/events/arts-facult
 y-night
LOCATION:GH - Graduate House 200 University Avenue West Waterloo ON N2L 3G1
  Canada
SUMMARY:Arts Faculty Night
CLASS:PUBLIC
DESCRIPTION:[Graduate Student Association of the University of Waterloo\nlo
 go]Starting this year\, the GSA is running a \"Faculty Night\" at\nGrad 
 House for each faculty at the University. This is a casual\nevent where
  students can meet and mingle with their\npeers\, various GSA members\
 , and others among their own faculty.
DTSTAMP:20260425T031358Z
END:VEVENT
BEGIN:VEVENT
UID:69ec317685f72
DTSTART;TZID=America/Toronto:20190903T120000
SEQUENCE:0
TRANSP:TRANSPARENT
DTEND;TZID=America/Toronto:20190903T120000
URL:https://uwaterloo.ca/graduate-association-psychology/events/psych-grad-
 orientation
LOCATION:PAS - Psychology\, Anthropology\, Sociology 200 University Avenue 
 West ABC Room - PAS 3026 Waterloo ON N2L 3G1 Canada
SUMMARY:Psych Grad Orientation
CLASS:PUBLIC
DESCRIPTION:[White block letters spelling out UW GASP]Get some lunch\, lear
 n the\nins and outs of the psychology department\, and meet the people beh
 ind\nGASP!
DTSTAMP:20260425T031358Z
END:VEVENT
BEGIN:VEVENT
UID:69ec3176869d9
DTSTART;TZID=America/Toronto:20190905T150000
SEQUENCE:0
TRANSP:TRANSPARENT
DTEND;TZID=America/Toronto:20190905T150000
URL:https://uwaterloo.ca/graduate-association-psychology/events/campus-tour
LOCATION:PAS - Psychology\, Anthropology\, Sociology 200 University Avenue 
 West PAS lounge Waterloo ON N2L 3G1 Canada
SUMMARY:Campus tour
CLASS:PUBLIC
DESCRIPTION:[Tour group]This an opportunity to get a tour of the important 
 spots\non campus (i.e. where to get coffee and snacks)\, lead by a GASP\nr
 epresentative. Other highlights include getting your WatCard or your\nkeys
  if you haven't yet. Please meet in the PAS lounge. \n\n*_This tour might
  help with the Scavenger hunt_*
DTSTAMP:20260425T031358Z
END:VEVENT
BEGIN:VEVENT
UID:69ec317687424
DTSTART;TZID=America/Toronto:20190904T100000
SEQUENCE:0
TRANSP:TRANSPARENT
DTEND;TZID=America/Toronto:20190904T100000
URL:https://uwaterloo.ca/graduate-association-psychology/events/big-and-lit
 te-sib-coffee-meet
LOCATION:PAS - Psychology\, Anthropology\, Sociology 200 University Avenue 
 West PAS lounge Waterloo ON N2L 3G1 Canada
SUMMARY:Big and Litte Sib Coffee Meet-Up
CLASS:PUBLIC
DESCRIPTION:[Smiling coffee cup]This event is for this year's big and littl
 e sibs\nto hang out and get the semester started off right. Drop by with y
 our\nsib to get some coffee (or tea) and some snacks to motivate you\nthro
 ugh the first day of classes.\n\nBe environmentally friendly and bring you
 r own mugs (we will have some\ncups available just in case).
DTSTAMP:20260425T031358Z
END:VEVENT
BEGIN:VEVENT
UID:69ec317687dc1
DTSTART;TZID=America/Toronto:20190913T120000
SEQUENCE:0
TRANSP:TRANSPARENT
DTEND;TZID=America/Toronto:20190913T120000
URL:https://uwaterloo.ca/graduate-association-psychology/events/psych-welco
 me-lunch
LOCATION:PAS - Psychology\, Anthropology\, Sociology 200 University Avenue 
 West Waterloo ON N2L 3G1 Canada
SUMMARY:Psych Welcome Lunch
CLASS:PUBLIC
DESCRIPTION:We will serve the food in PAS 3026 and then head out to the pat
 io (or\nlounge if the weather doesn’t cooperate!).
DTSTAMP:20260425T031358Z
END:VEVENT
BEGIN:VEVENT
UID:69ec31768873c
DTSTART;TZID=America/Toronto:20190927T170000
SEQUENCE:0
TRANSP:TRANSPARENT
DTEND;TZID=America/Toronto:20190927T190000
URL:https://uwaterloo.ca/graduate-association-psychology/events/tri-agency-
 scholarships-nserc-sshrc-cihr-0
SUMMARY:Tri-Agency Scholarships (NSERC\, SSHRC\, CIHR)
CLASS:PUBLIC
DESCRIPTION:Facilitated by previous tri-agency award recipients\, this work
 shop\naddresses how to plan and write the critical research proposal\nport
 ions of your SSHRC\, NSERC\, or CIHR application. Discuss the key\ncompone
 nts of research proposals. Learn how to communicate your\nresearch plan an
 d your credentials with confidence and clarity. The\nworkshop component wi
 ll last for approximately two hours\, but\nfacilitators will remain for th
 e final thirty minutes to answer\nspecific questions and give brief feedba
 ck.
DTSTAMP:20260425T031358Z
END:VEVENT
BEGIN:VEVENT
UID:69ec317688f14
DTSTART;TZID=America/Toronto:20190924T170000
SEQUENCE:0
TRANSP:TRANSPARENT
DTEND;TZID=America/Toronto:20190924T190000
URL:https://uwaterloo.ca/graduate-association-psychology/events/tri-agency-
 scholarships-nserc-sshrc-cihr
LOCATION:SCH - South Campus Hall 200 University Avenue West TBD Waterloo ON
  N2L 3G1 Canada
SUMMARY:Tri-Agency Scholarships (NSERC\, SSHRC\, CIHR)
CLASS:PUBLIC
DESCRIPTION:Facilitated by previous tri-agency award recipients\, this work
 shop\naddresses how to plan and write the critical research proposal\nport
 ions of your SSHRC\, NSERC\, or CIHR application. Discuss the key\ncompone
 nts of research proposals. Learn how to communicate your\nresearch plan an
 d your credentials with confidence and clarity. The\nworkshop component wi
 ll last for approximately two hours\, but\nfacilitators will remain for th
 e final thirty minutes to answer\nspecific questions and give brief feedba
 ck.
DTSTAMP:20260425T031358Z
END:VEVENT
BEGIN:VEVENT
UID:69ec3176898e0
DTSTART;TZID=America/Toronto:20190906T154500
SEQUENCE:0
TRANSP:TRANSPARENT
DTEND;TZID=America/Toronto:20190906T154500
URL:https://uwaterloo.ca/graduate-association-psychology/events/orientation
 -scavenger-hunt
LOCATION:PAS - Psychology\, Anthropology\, Sociology 200 University Avenue 
 West PAS lounge Waterloo ON N2L 3G1 Canada
SUMMARY:Orientation Scavenger Hunt
CLASS:PUBLIC
DESCRIPTION:[A magnifying glace over a marked trail]\n\nThe scavenger hunt 
 is a yearly tradition\, bringing the department\ntogether to compete in a 
 friendly competition. Form your area team\,\nsolve the clues\, and win som
 e area points! 
DTSTAMP:20260425T031358Z
END:VEVENT
BEGIN:VEVENT
UID:69ec31768a33b
DTSTART;TZID=America/Toronto:20160202T170000
SEQUENCE:0
TRANSP:TRANSPARENT
DTEND;TZID=America/Toronto:20160202T170000
URL:https://uwaterloo.ca/graduate-association-psychology/events/free-food-a
 nd-drinks-grad-house
LOCATION:Grad House Canada
SUMMARY:Free food and drinks at the Grad House
CLASS:PUBLIC
DESCRIPTION:[picture of the Grad House.]
DTSTAMP:20260425T031358Z
END:VEVENT
END:VCALENDAR