BEGIN:VCALENDAR
VERSION:2.0
PRODID:-//Drupal iCal API//EN
X-WR-CALNAME:Events items teaser
X-WR-TIMEZONE:America/Toronto
BEGIN:VTIMEZONE
TZID:America/Toronto
X-LIC-LOCATION:America/Toronto
BEGIN:DAYLIGHT
TZNAME:EDT
TZOFFSETFROM:-0500
TZOFFSETTO:-0400
DTSTART:20190310T070000
END:DAYLIGHT
BEGIN:STANDARD
TZNAME:EST
TZOFFSETFROM:-0400
TZOFFSETTO:-0500
DTSTART:20191103T060000
END:STANDARD
END:VTIMEZONE
BEGIN:VEVENT
UID:69ed312706a61
DTSTART;TZID=America/Toronto:20200201T170000
SEQUENCE:0
TRANSP:TRANSPARENT
DTEND;TZID=America/Toronto:20200201T170000
URL:https://uwaterloo.ca/grebel/events/orchestrauwaterloo-concerto-aria-com
 petition-finalists
LOCATION:CGR - Conrad Grebel University 140 Westmount Road North Chapel Wat
 erloo ON N2L 3G6 Canada
SUMMARY:orchestra@uwaterloo Concerto &amp; Aria competition finalists performan
 ce
CLASS:PUBLIC
DESCRIPTION:orchestra@uwaterloo Concerto &amp; Aria competition finalists perfo
 rmance
DTSTAMP:20260425T212455Z
END:VEVENT
END:VCALENDAR