BEGIN:VCALENDAR
VERSION:2.0
PRODID:-//Drupal iCal API//EN
X-WR-CALNAME:Events items teaser
X-WR-TIMEZONE:America/Toronto
BEGIN:VTIMEZONE
TZID:America/Toronto
X-LIC-LOCATION:America/Toronto
BEGIN:DAYLIGHT
TZNAME:EDT
TZOFFSETFROM:-0500
TZOFFSETTO:-0400
DTSTART:20190310T070000
END:DAYLIGHT
BEGIN:STANDARD
TZNAME:EST
TZOFFSETFROM:-0400
TZOFFSETTO:-0500
DTSTART:20191103T060000
END:STANDARD
END:VTIMEZONE
BEGIN:VEVENT
UID:69ecd0eb64c99
DTSTART;TZID=America/Toronto:20200205T123000
SEQUENCE:0
TRANSP:TRANSPARENT
DTEND;TZID=America/Toronto:20200205T123000
URL:https://uwaterloo.ca/grebel/events/noon-hour-concert-spirits
LOCATION:CGR - Conrad Grebel University 140 Westmount Road North Chapel Wat
 erloo ON N2L 3G6 Canada
SUMMARY:Noon Hour Concert: Spirits
CLASS:PUBLIC
DESCRIPTION:Spirits is piano/percussion duo SHHH!! Ensemble’s most ambit
 ious\nproject to date. Diversely inspired by composers reflections on the\
 nbeyond\, the nature of creativity\, whiskey\, and more\, Spirits features
 \nthe world premiere of a new work by John Gordon Armstrong. The\nprogramm
 e also features pieces by Andy Akiho\, Micheline Roi\, Kevin\nHanlon\, Kel
 ly-Marie Murphy\, and John Beckwith.
DTSTAMP:20260425T143419Z
END:VEVENT
END:VCALENDAR