BEGIN:VCALENDAR
VERSION:2.0
PRODID:-//Drupal iCal API//EN
X-WR-CALNAME:Events items teaser
X-WR-TIMEZONE:America/Toronto
BEGIN:VTIMEZONE
TZID:America/Toronto
X-LIC-LOCATION:America/Toronto
BEGIN:DAYLIGHT
TZNAME:EDT
TZOFFSETFROM:-0500
TZOFFSETTO:-0400
DTSTART:20210314T070000
END:DAYLIGHT
BEGIN:STANDARD
TZNAME:EST
TZOFFSETFROM:-0400
TZOFFSETTO:-0500
DTSTART:20211107T060000
END:STANDARD
END:VTIMEZONE
BEGIN:VEVENT
UID:69ed43885f33d
DTSTART;TZID=America/Toronto:20220310T190000
SEQUENCE:0
TRANSP:TRANSPARENT
DTEND;TZID=America/Toronto:20220310T203000
URL:https://uwaterloo.ca/grebel/events/2022-bechtel-lecturer-dr-sofia-samat
 ar
LOCATION:CGR - Conrad Grebel University 140 Westmount Road North Waterloo O
 N N2L 3G6 Canada
SUMMARY:2022 Bechtel Lecturer: Dr. Sofia Samatar
CLASS:PUBLIC
DESCRIPTION:In the last two years\, instructions to \"shelter in place\" be
 came\nfamiliar around the globe as part of the response to the COVID-19\np
 andemic. This lecture considers what it means to shelter in place\,\nnot
  just in terms of emergency management\, but as a deliberate\npractice wit
 h ethical and ecological effects. What do poets\, walkers\,\nand weather o
 bservers teach us about the value of dwelling in place?\nWhat does shelter
  look like for those who are forced to leave their\nhomes? And when preven
 ted from staying in place\, how can a person\ndwell? Is it possible to she
 lter in time?
DTSTAMP:20260425T224320Z
END:VEVENT
END:VCALENDAR