BEGIN:VCALENDAR
VERSION:2.0
PRODID:-//Drupal iCal API//EN
X-WR-CALNAME:Events items teaser
X-WR-TIMEZONE:America/Toronto
BEGIN:VTIMEZONE
TZID:America/Toronto
X-LIC-LOCATION:America/Toronto
BEGIN:DAYLIGHT
TZNAME:EDT
TZOFFSETFROM:-0500
TZOFFSETTO:-0400
DTSTART:20210314T070000
END:DAYLIGHT
BEGIN:STANDARD
TZNAME:EST
TZOFFSETFROM:-0400
TZOFFSETTO:-0500
DTSTART:20211107T060000
END:STANDARD
END:VTIMEZONE
BEGIN:VEVENT
UID:69ed4381674a8
DTSTART;TZID=America/Toronto:20211208T190000
SEQUENCE:0
TRANSP:TRANSPARENT
DTEND;TZID=America/Toronto:20211208T190000
URL:https://uwaterloo.ca/grebel/events/chamber-choir-end-term-concert-fall-
 2021
SUMMARY:Chamber Choir End of Term Concert - Fall 2021
CLASS:PUBLIC
DESCRIPTION:THE UNIVERSITY OF WATERLOO CHAMBER CHOIR sings a varied progra
 m\nincluding works by Indigenous composer Andrew Balfour\, Indian-American
 \ncomposer Reena Esmail and Haitian-American composer Sydney Guillaume.\n
  Other composers whose works will be performed include Healey Willan\,\nR
 ene Clausen\, Benjamin Britten and Morton Lauridsen. 
DTSTAMP:20260425T224313Z
END:VEVENT
END:VCALENDAR