BEGIN:VCALENDAR
VERSION:2.0
PRODID:-//Drupal iCal API//EN
X-WR-CALNAME:Events items teaser
X-WR-TIMEZONE:America/Toronto
BEGIN:VTIMEZONE
TZID:America/Toronto
X-LIC-LOCATION:America/Toronto
BEGIN:DAYLIGHT
TZNAME:EDT
TZOFFSETFROM:-0500
TZOFFSETTO:-0400
DTSTART:20210314T070000
END:DAYLIGHT
BEGIN:STANDARD
TZNAME:EST
TZOFFSETFROM:-0400
TZOFFSETTO:-0500
DTSTART:20211107T060000
END:STANDARD
END:VTIMEZONE
BEGIN:VEVENT
UID:69ed471db3638
DTSTART;TZID=America/Toronto:20211209T190000
SEQUENCE:0
TRANSP:TRANSPARENT
DTEND;TZID=America/Toronto:20211209T190000
URL:https://uwaterloo.ca/grebel/events/balinese-gamelan-ensemble-fall-2021-
 end-term-concert
SUMMARY:Balinese Gamelan Ensemble Fall 2021 End of Term Concert
CLASS:PUBLIC
DESCRIPTION:Please join us for a joint online concert with the University o
 f\nWaterloo Balinese Gamelan Ensemble and the Grebel Community Gamelan. \
 nThe video premiere will be released on Thursday\, December 9 at 7pm\,\nan
 d will be posted on this website.
DTSTAMP:20260425T225837Z
END:VEVENT
END:VCALENDAR