BEGIN:VCALENDAR
VERSION:2.0
PRODID:-//Drupal iCal API//EN
X-WR-CALNAME:Events items teaser
X-WR-TIMEZONE:America/Toronto
BEGIN:VTIMEZONE
TZID:America/Toronto
X-LIC-LOCATION:America/Toronto
BEGIN:DAYLIGHT
TZNAME:EDT
TZOFFSETFROM:-0500
TZOFFSETTO:-0400
DTSTART:20210314T070000
END:DAYLIGHT
BEGIN:STANDARD
TZNAME:EST
TZOFFSETFROM:-0400
TZOFFSETTO:-0500
DTSTART:20211107T060000
END:STANDARD
END:VTIMEZONE
BEGIN:VEVENT
UID:69ed2c50568f2
DTSTART;TZID=America/Toronto:20211210T190000
SEQUENCE:0
TRANSP:TRANSPARENT
DTEND;TZID=America/Toronto:20211210T190000
URL:https://uwaterloo.ca/grebel/events/orchestrauwaterloo-end-term-concert
SUMMARY:Orchestra@UWaterloo End of Term Concert
CLASS:PUBLIC
DESCRIPTION:Please join us for the ONLINE PREMIERE of the Orchestra@UWate
 rloo\nFall Term concert.  The orchestra is directed by Daniel Warren\n[
 https://uwaterloo.ca/music/people-profiles/daniel-warren]\, and this\nterm
  consists of string players only.  Members include undergraduate\nstudent
 s\, grad students\, staff\, and alumni.  
DTSTAMP:20260425T210416Z
END:VEVENT
END:VCALENDAR