BEGIN:VCALENDAR
VERSION:2.0
PRODID:-//Drupal iCal API//EN
X-WR-CALNAME:Events items teaser
X-WR-TIMEZONE:America/Toronto
BEGIN:VTIMEZONE
TZID:America/Toronto
X-LIC-LOCATION:America/Toronto
BEGIN:DAYLIGHT
TZNAME:EDT
TZOFFSETFROM:-0500
TZOFFSETTO:-0400
DTSTART:20220313T070000
END:DAYLIGHT
BEGIN:STANDARD
TZNAME:EST
TZOFFSETFROM:-0400
TZOFFSETTO:-0500
DTSTART:20211107T060000
END:STANDARD
END:VTIMEZONE
BEGIN:VEVENT
UID:69ed3a2abcbc2
DTSTART;TZID=America/Toronto:20220716T193000
SEQUENCE:0
TRANSP:TRANSPARENT
DTEND;TZID=America/Toronto:20220716T193000
URL:https://uwaterloo.ca/grebel/events/out-darkness-university-choir-end-te
 rm-concert
LOCATION:St. John the Evangelist Anglican Church 23 Water Street North Kitc
 hener Canada
SUMMARY:Out of Darkness: University Choir end of term Concert
CLASS:PUBLIC
DESCRIPTION:The University Choir performs an eclectic range of music from a
 round\nthe world.  Directed by Liska Jetchick\, the choir consists of\nst
 udents and alumni from all six faculties. This Spring term they will\nperf
 orm Leonard Bernstein's _Chichester Psalms\, _composed in\n1965.  
DTSTAMP:20260425T220322Z
END:VEVENT
END:VCALENDAR