BEGIN:VCALENDAR
VERSION:2.0
PRODID:-//Drupal iCal API//EN
X-WR-CALNAME:Events items teaser
X-WR-TIMEZONE:America/Toronto
BEGIN:VTIMEZONE
TZID:America/Toronto
X-LIC-LOCATION:America/Toronto
BEGIN:DAYLIGHT
TZNAME:EDT
TZOFFSETFROM:-0500
TZOFFSETTO:-0400
DTSTART:20220313T070000
END:DAYLIGHT
BEGIN:STANDARD
TZNAME:EST
TZOFFSETFROM:-0400
TZOFFSETTO:-0500
DTSTART:20211107T060000
END:STANDARD
END:VTIMEZONE
BEGIN:VEVENT
UID:69ecc8ec41f32
DTSTART;TZID=America/Toronto:20220720T193000
SEQUENCE:0
TRANSP:TRANSPARENT
DTEND;TZID=America/Toronto:20220720T193000
URL:https://uwaterloo.ca/grebel/events/mediterranean-memories-orchestrauwat
 erloo-end-term-concert
LOCATION:Knox Presbyterian Church 50 Erb St West Waterloo Canada
SUMMARY:Mediterranean Memories: Orchestra@UWaterloo End of Term Concert
CLASS:PUBLIC
DESCRIPTION:Please join us for the Spring Term orchestra@uwaterloo concert.
  \nDirected by Daniel Warren\, this orchestra includes students from\nacr
 oss the University in all 6 Faculties. \n\nThe performance will include t
 he following pieces:\n\nDon Giovanni Overture - W.A. Mozart\n\nValse Trist
 e - Jean Sibelius\n\nPavane - Gilbert Fauré \n\nSymphony No. 4 - Felix M
 endelssohn
DTSTAMP:20260425T140012Z
END:VEVENT
END:VCALENDAR