BEGIN:VCALENDAR
VERSION:2.0
PRODID:-//Drupal iCal API//EN
X-WR-CALNAME:Events items teaser
X-WR-TIMEZONE:America/Toronto
BEGIN:VTIMEZONE
TZID:America/Toronto
X-LIC-LOCATION:America/Toronto
BEGIN:DAYLIGHT
TZNAME:EDT
TZOFFSETFROM:-0500
TZOFFSETTO:-0400
DTSTART:20220313T070000
END:DAYLIGHT
BEGIN:STANDARD
TZNAME:EST
TZOFFSETFROM:-0400
TZOFFSETTO:-0500
DTSTART:20211107T060000
END:STANDARD
END:VTIMEZONE
BEGIN:VEVENT
UID:69ec183d60006
DTSTART;TZID=America/Toronto:20220724T140000
SEQUENCE:0
TRANSP:TRANSPARENT
DTEND;TZID=America/Toronto:20220724T140000
URL:https://uwaterloo.ca/grebel/events/summer-breeze-jazz-ensemble
LOCATION:CGR - Conrad Grebel University Great Hall\, Room 1111 Canada
SUMMARY:Summer Breeze: Jazz Ensemble
CLASS:PUBLIC
DESCRIPTION:Join us for an engaging jazz concert in July.  Directed by Mic
 hael\nWood\, the Jazz Ensemble has members from all 6 Faculties\, particul
 arly\nMathematics. This term they will be featuring the music of\nMike T
 omaro …  Neal Hefti  … Dave Wolpe &amp; Rob McConnell.\n\nTickets will 
 be available at the door\, or from Jazz Ensemble members.
DTSTAMP:20260425T012621Z
END:VEVENT
END:VCALENDAR