BEGIN:VCALENDAR
VERSION:2.0
PRODID:-//Drupal iCal API//EN
X-WR-CALNAME:Events items teaser
X-WR-TIMEZONE:America/Toronto
BEGIN:VTIMEZONE
TZID:America/Toronto
X-LIC-LOCATION:America/Toronto
BEGIN:DAYLIGHT
TZNAME:EDT
TZOFFSETFROM:-0500
TZOFFSETTO:-0400
DTSTART:20220313T070000
END:DAYLIGHT
BEGIN:STANDARD
TZNAME:EST
TZOFFSETFROM:-0400
TZOFFSETTO:-0500
DTSTART:20221106T060000
END:STANDARD
END:VTIMEZONE
BEGIN:VEVENT
UID:69ed3a35b221e
DTSTART;TZID=America/Toronto:20221127T160000
SEQUENCE:0
TRANSP:TRANSPARENT
DTEND;TZID=America/Toronto:20221127T173000
URL:https://uwaterloo.ca/grebel/events/light-song-chamber-choir-end-term-co
 ncert
LOCATION:St. John the Evangelist Anglican Church 23 Water St. North Kitchen
 er ON N2H 5A4 Canada
SUMMARY:A Light of Song: Chamber Choir End of Term Concert
CLASS:PUBLIC
DESCRIPTION:The fall Chamber Choir program explores themes of light and nig
 ht in\nmusic that spans five hundred years\, written by composers such as\
 nPalestrina\, Josquin and Victoria of the Renaissance and Eric Whitacre\,\
 nĒriks Ešenvalds\, and Sarah Quartel of our own time.\nThe Choir will be
  accompanied by  Madeline Weber\, piano and a string\nquartet:\nKaren Fu 
 (violin)\, Frank Wang (violin)\, Ewan Simms (viola) and Robert\nChoi (cel
 lo)
DTSTAMP:20260425T220333Z
END:VEVENT
END:VCALENDAR