BEGIN:VCALENDAR
VERSION:2.0
PRODID:-//Drupal iCal API//EN
X-WR-CALNAME:Events items teaser
X-WR-TIMEZONE:America/Toronto
BEGIN:VTIMEZONE
TZID:America/Toronto
X-LIC-LOCATION:America/Toronto
BEGIN:DAYLIGHT
TZNAME:EDT
TZOFFSETFROM:-0500
TZOFFSETTO:-0400
DTSTART:20160313T070000
END:DAYLIGHT
BEGIN:STANDARD
TZNAME:EST
TZOFFSETFROM:-0400
TZOFFSETTO:-0500
DTSTART:20161106T060000
END:STANDARD
END:VTIMEZONE
BEGIN:VEVENT
UID:69e37f9a3627e
DTSTART;TZID=America/Toronto:20161215T103000
SEQUENCE:0
TRANSP:TRANSPARENT
DTEND;TZID=America/Toronto:20161215T123000
URL:https://uwaterloo.ca/health/events/public-lecture-aging-technological-w
 orld-bridging
LOCATION:AHS Expansion Building 200 University Avenue West Room 1689 (lectu
 re hall) Waterloo ON N2L 3G1 Canada
SUMMARY:Public lecture - Aging in a technological world: bridging disciplin
 es\nto tackle the dementia epidemic
CLASS:PUBLIC
DESCRIPTION:Julie Robillard\, PhD Assistant Professor of Neurology\, Facul
 ty of\nMedicine\, University of British Columbia\n\nDr. Robillard is an af
 filiated researcher of the AGE-WELL Network of\nCentres of Excellence and 
 Vice-chair of the Ethical\, Legal\, Social\nImpacts Committee of the Canad
 ian Consortium on Neurodegeneration in\nAging.
DTSTAMP:20260418T125658Z
END:VEVENT
END:VCALENDAR