BEGIN:VCALENDAR
VERSION:2.0
PRODID:-//Drupal iCal API//EN
X-WR-CALNAME:Events items teaser
X-WR-TIMEZONE:America/Toronto
BEGIN:VTIMEZONE
TZID:America/Toronto
X-LIC-LOCATION:America/Toronto
BEGIN:DAYLIGHT
TZNAME:EDT
TZOFFSETFROM:-0500
TZOFFSETTO:-0400
DTSTART:20160313T070000
END:DAYLIGHT
BEGIN:STANDARD
TZNAME:EST
TZOFFSETFROM:-0400
TZOFFSETTO:-0500
DTSTART:20161106T060000
END:STANDARD
END:VTIMEZONE
BEGIN:VEVENT
UID:69e37fe17e25c
DTSTART;TZID=America/Toronto:20170201T140000
SEQUENCE:0
TRANSP:TRANSPARENT
DTEND;TZID=America/Toronto:20170201T153000
URL:https://uwaterloo.ca/health/events/fostering-conversation-creativity-an
 d-innovation-grassroots
LOCATION:AHS - Applied Health Sciences Expansion Building 200 University Av
 e West Room 1686 Waterloo ON N2L 3G1 Canada
SUMMARY:Fostering the conversation: creativity and innovation at the\ngrass
 roots for the promotion of health and well-being at the\nUniversity of Wat
 erloo
CLASS:PUBLIC
DESCRIPTION:The neoliberal movement is broad and impacts on the global to l
 ocal\ncontext within in an education system and university research and\ni
 nnovation environment. One unintended consequence of the neoliberal\nmovem
 ent and logic which impacts on university life is how it changes\nresearch
  practice and the resulting creativity and innovation.
DTSTAMP:20260418T125809Z
END:VEVENT
END:VCALENDAR