BEGIN:VCALENDAR
VERSION:2.0
PRODID:-//Drupal iCal API//EN
X-WR-CALNAME:Events items teaser
X-WR-TIMEZONE:America/Toronto
BEGIN:VTIMEZONE
TZID:America/Toronto
X-LIC-LOCATION:America/Toronto
BEGIN:DAYLIGHT
TZNAME:EDT
TZOFFSETFROM:-0500
TZOFFSETTO:-0400
DTSTART:20190310T070000
END:DAYLIGHT
BEGIN:STANDARD
TZNAME:EST
TZOFFSETFROM:-0400
TZOFFSETTO:-0500
DTSTART:20181104T060000
END:STANDARD
END:VTIMEZONE
BEGIN:VEVENT
UID:69eb22cb3618f
DTSTART;TZID=America/Toronto:20190327T170000
SEQUENCE:0
TRANSP:TRANSPARENT
DTEND;TZID=America/Toronto:20190327T190000
URL:https://uwaterloo.ca/health/events/2019-ahs-grad-class-send
LOCATION:UC - University Club 200 University Avenue West Waterloo ON N2L 3G
 1 Canada
SUMMARY:2019 AHS Grad Class Send-Off
CLASS:PUBLIC
DESCRIPTION:Graduating students from the Faculty of Applied Health Sciences
  are\ninvited to join Dean Paul Stolee\, professors\, and staff to celebr
 ate\nyour achievements. Hear from an AHS alumnus\, enjoy snacks and sweet\
 ntreats\, and cap it all off with a champagne toast! 
DTSTAMP:20260424T075907Z
END:VEVENT
END:VCALENDAR