BEGIN:VCALENDAR
VERSION:2.0
PRODID:-//Drupal iCal API//EN
X-WR-CALNAME:Events items teaser
X-WR-TIMEZONE:America/Toronto
BEGIN:VTIMEZONE
TZID:America/Toronto
X-LIC-LOCATION:America/Toronto
BEGIN:DAYLIGHT
TZNAME:EDT
TZOFFSETFROM:-0500
TZOFFSETTO:-0400
DTSTART:20190310T070000
END:DAYLIGHT
BEGIN:STANDARD
TZNAME:EST
TZOFFSETFROM:-0400
TZOFFSETTO:-0500
DTSTART:20181104T060000
END:STANDARD
END:VTIMEZONE
BEGIN:VEVENT
UID:69eb60693ed07
DTSTART;TZID=America/Toronto:20191028T180000
SEQUENCE:0
TRANSP:TRANSPARENT
DTEND;TZID=America/Toronto:20191028T203000
URL:https://uwaterloo.ca/health/events/speed-networking-2019
LOCATION:FED - Federation Hall 200 University Avenue West Waterloo ON N2L 3
 G1 Canada
SUMMARY:Speed Networking 2019
CLASS:PUBLIC
DESCRIPTION:[Speed Networking: the starting line of your future]\n\nJoin AH
 S alumni and current graduate students as they return to campus\nto share 
 their experiences\, offer career insight\, and speak with you\nand your cl
 assmates about what to expect once you have graduated from\nWaterloo.
DTSTAMP:20260424T122201Z
END:VEVENT
END:VCALENDAR