BEGIN:VCALENDAR
VERSION:2.0
PRODID:-//Drupal iCal API//EN
X-WR-CALNAME:Events items teaser
X-WR-TIMEZONE:America/Toronto
BEGIN:VTIMEZONE
TZID:America/Toronto
X-LIC-LOCATION:America/Toronto
BEGIN:DAYLIGHT
TZNAME:EDT
TZOFFSETFROM:-0500
TZOFFSETTO:-0400
DTSTART:20190310T070000
END:DAYLIGHT
BEGIN:STANDARD
TZNAME:EST
TZOFFSETFROM:-0400
TZOFFSETTO:-0500
DTSTART:20181104T060000
END:STANDARD
END:VTIMEZONE
BEGIN:VEVENT
UID:69e380a15e469
DTSTART;TZID=America/Toronto:20191021T160000
SEQUENCE:0
TRANSP:TRANSPARENT
DTEND;TZID=America/Toronto:20191021T170000
URL:https://uwaterloo.ca/health/events/hallman-lecture-adverse-outcomes-ass
 ociated-occupational
LOCATION:Applied Health Sciences 200 University Ave West LHS 1621 Sun Life 
 Auditorium (new location) Waterloo ON N2L 3G1 Canada
SUMMARY:Hallman Lecture: Adverse outcomes associated with occupational\nexp
 osures to whole body vibration - Making a health\, safety and\nbusiness ca
 se
CLASS:PUBLIC
DESCRIPTION:Peter Johnson of University of Washington examines how adverse 
 health\nand safety outcomes can result from occupational exposure to whole
 \nbody vibration and how methods to reduce exposures can positively\nimpac
 t vehicle operator health and safety\, and benefit profitability.
DTSTAMP:20260418T130121Z
END:VEVENT
END:VCALENDAR