BEGIN:VCALENDAR
VERSION:2.0
PRODID:-//Drupal iCal API//EN
X-WR-CALNAME:Events items teaser
X-WR-TIMEZONE:America/Toronto
BEGIN:VTIMEZONE
TZID:America/Toronto
X-LIC-LOCATION:America/Toronto
BEGIN:DAYLIGHT
TZNAME:EDT
TZOFFSETFROM:-0500
TZOFFSETTO:-0400
DTSTART:20200308T070000
END:DAYLIGHT
BEGIN:STANDARD
TZNAME:EST
TZOFFSETFROM:-0400
TZOFFSETTO:-0500
DTSTART:20191103T060000
END:STANDARD
END:VTIMEZONE
BEGIN:VEVENT
UID:69eb22bc381ed
DTSTART;TZID=America/Toronto:20200319T170000
SEQUENCE:0
TRANSP:TRANSPARENT
DTEND;TZID=America/Toronto:20200319T190000
URL:https://uwaterloo.ca/health/events/2020-ahs-grad-class-send
LOCATION:AHS - Applied Health Sciences Expansion Building 200 University Av
 e West Waterloo ON N2L 3G1 Canada
SUMMARY:2020 AHS Grad Class Send-Off
CLASS:PUBLIC
DESCRIPTION:Event cancelled: The Grad Class Send Off event scheduled for Ma
 rch 19\,\n2020 is cancelled due to precautionary measures taken by Univers
 ity of\nWaterloo to limit the spread and risks of COVID-19 in our communit
 y.
DTSTAMP:20260424T075852Z
END:VEVENT
END:VCALENDAR