BEGIN:VCALENDAR
VERSION:2.0
PRODID:-//Drupal iCal API//EN
X-WR-CALNAME:Events items teaser
X-WR-TIMEZONE:America/Toronto
BEGIN:VTIMEZONE
TZID:America/Toronto
X-LIC-LOCATION:America/Toronto
BEGIN:DAYLIGHT
TZNAME:EDT
TZOFFSETFROM:-0500
TZOFFSETTO:-0400
DTSTART:20200308T070000
END:DAYLIGHT
BEGIN:STANDARD
TZNAME:EST
TZOFFSETFROM:-0400
TZOFFSETTO:-0500
DTSTART:20201101T060000
END:STANDARD
END:VTIMEZONE
BEGIN:VEVENT
UID:69ec138567c00
DTSTART;TZID=America/Toronto:20201105T190000
SEQUENCE:0
TRANSP:TRANSPARENT
DTEND;TZID=America/Toronto:20201105T204500
URL:https://uwaterloo.ca/health/events/trivia-night-thrive-edition
SUMMARY:Trivia Night: THRIVE Edition
CLASS:PUBLIC
DESCRIPTION:[AHS Trivia Thrive Edition surrounded by question marks.]\n\nIt
 ’s time to flex your trivia muscles in our first-ever Applied\nHealth Sc
 iences- (AHS-) wide virtual trivia night! The questions will\nbe a fun com
 bination of AHS-specific and other historical facts\, pop\nculture referen
 ces\, and include a special focus on mental health and\nwell-being for THR
 IVE week [https://uwaterloo.ca/thrive/].
DTSTAMP:20260425T010613Z
END:VEVENT
END:VCALENDAR