BEGIN:VCALENDAR
VERSION:2.0
PRODID:-//Drupal iCal API//EN
X-WR-CALNAME:Events items teaser
X-WR-TIMEZONE:America/Toronto
BEGIN:VTIMEZONE
TZID:America/Toronto
X-LIC-LOCATION:America/Toronto
BEGIN:DAYLIGHT
TZNAME:EDT
TZOFFSETFROM:-0500
TZOFFSETTO:-0400
DTSTART:20180311T070000
END:DAYLIGHT
BEGIN:STANDARD
TZNAME:EST
TZOFFSETFROM:-0400
TZOFFSETTO:-0500
DTSTART:20171105T060000
END:STANDARD
END:VTIMEZONE
BEGIN:VEVENT
UID:69eb07fa29289
DTSTART;TZID=America/Toronto:20180419T113000
SEQUENCE:0
TRANSP:TRANSPARENT
DTEND;TZID=America/Toronto:20180419T130000
URL:https://uwaterloo.ca/health/events/applied-health-sciences-50th-anniver
 sary-closing-ceremony
LOCATION:AHS - Applied Health Sciences Expansion Building 200 University Av
 e West Foyer Waterloo ON N2L 3G1 Canada
SUMMARY:Applied Health Sciences 50th Anniversary Closing Ceremony
CLASS:PUBLIC
DESCRIPTION:The Faculty of Applied Health Sciences' (AHS) 50th Anniversary 
 Closing\nCeremony marks the end of our celebratory year. Throughout 2017-2
 018\,\nwe have celebrated 50 years of setting a gold standard in academic 
 and\nresearch leadership that protects and promotes health and well-being.
DTSTAMP:20260424T060442Z
END:VEVENT
END:VCALENDAR