BEGIN:VCALENDAR
VERSION:2.0
PRODID:-//Drupal iCal API//EN
X-WR-CALNAME:Events items teaser
X-WR-TIMEZONE:America/Toronto
BEGIN:VTIMEZONE
TZID:America/Toronto
X-LIC-LOCATION:America/Toronto
BEGIN:DAYLIGHT
TZNAME:EDT
TZOFFSETFROM:-0500
TZOFFSETTO:-0400
DTSTART:20170312T070000
END:DAYLIGHT
BEGIN:STANDARD
TZNAME:EST
TZOFFSETFROM:-0400
TZOFFSETTO:-0500
DTSTART:20171105T060000
END:STANDARD
END:VTIMEZONE
BEGIN:VEVENT
UID:69e38135555e3
DTSTART;TZID=America/Toronto:20180214T120000
SEQUENCE:0
TRANSP:TRANSPARENT
DTEND;TZID=America/Toronto:20180214T140000
URL:https://uwaterloo.ca/health/events/why-we-love-applied-health-sciences
LOCATION:AHS - Applied Health Sciences Expansion Building 200 University Av
 e West Foyer Waterloo ON N2L 3G1 Canada
SUMMARY:Why we love Applied Health Sciences
CLASS:PUBLIC
DESCRIPTION:Join us on Wednesday\, February 14 for a day of love and celebr
 ation!\nBring your sweet tooth and friends as we will be handing out\nchoc
 olates\, cookies\, and a special 50th anniversary poster. In\ncollaboratio
 n with Applied Health Sciences Undergraduate Members\n(AHSUM)\, we will al
 so be offering $5 bouquets and $2 roses to AHS\nundergraduate students in 
 the AHS Expansion foyer.
DTSTAMP:20260418T130349Z
END:VEVENT
END:VCALENDAR