BEGIN:VCALENDAR
VERSION:2.0
PRODID:-//Drupal iCal API//EN
X-WR-CALNAME:Events items teaser
X-WR-TIMEZONE:America/Toronto
BEGIN:VTIMEZONE
TZID:America/Toronto
X-LIC-LOCATION:America/Toronto
BEGIN:DAYLIGHT
TZNAME:EDT
TZOFFSETFROM:-0500
TZOFFSETTO:-0400
DTSTART:20180311T070000
END:DAYLIGHT
BEGIN:STANDARD
TZNAME:EST
TZOFFSETFROM:-0400
TZOFFSETTO:-0500
DTSTART:20171105T060000
END:STANDARD
END:VTIMEZONE
BEGIN:VEVENT
UID:69eaf03c87e42
DTSTART;TZID=America/Toronto:20180326T100000
SEQUENCE:0
TRANSP:TRANSPARENT
DTEND;TZID=America/Toronto:20180329T150000
URL:https://uwaterloo.ca/health/events/50th-anniversary-egg-stravaganza
LOCATION:AHS - Applied Health Sciences Expansion Building 200 University Av
 e West Waterloo ON N2L 3G1 Canada
SUMMARY:50th anniversary egg-stravaganza
CLASS:PUBLIC
DESCRIPTION:Jump start your long weekend by participating in our 50th Anni
 versary\nEgg-stravaganza! 50 eggs filled with fun surprises will be hidden
 \naround the AHS Expansion Building. Keep your eye out for\nten metallic
  eggs and one golden egg! They will contain a message\nwith further inst
 ructions.
DTSTAMP:20260424T042324Z
END:VEVENT
END:VCALENDAR