BEGIN:VCALENDAR
VERSION:2.0
PRODID:-//Drupal iCal API//EN
X-WR-CALNAME:Events items teaser
X-WR-TIMEZONE:America/Toronto
BEGIN:VTIMEZONE
TZID:America/Toronto
X-LIC-LOCATION:America/Toronto
BEGIN:DAYLIGHT
TZNAME:EDT
TZOFFSETFROM:-0500
TZOFFSETTO:-0400
DTSTART:20210314T070000
END:DAYLIGHT
BEGIN:STANDARD
TZNAME:EST
TZOFFSETFROM:-0400
TZOFFSETTO:-0500
DTSTART:20201101T060000
END:STANDARD
END:VTIMEZONE
BEGIN:VEVENT
UID:69eba76681e15
DTSTART;TZID=America/Toronto:20210427T190000
SEQUENCE:0
TRANSP:TRANSPARENT
DTEND;TZID=America/Toronto:20210427T200000
URL:https://uwaterloo.ca/health/events/2021-faculty-health-grad-class-send
SUMMARY:2021 Faculty of Health Grad Class Send-Off
CLASS:PUBLIC
DESCRIPTION:Graduating students from the Faculty of Health are invited t
 o join\nDean Lili Liu\, professors\, and staff at a virtual celebration of
  the\nclass of 2021!
DTSTAMP:20260424T172454Z
END:VEVENT
END:VCALENDAR