BEGIN:VCALENDAR
VERSION:2.0
PRODID:-//Drupal iCal API//EN
X-WR-CALNAME:Events items teaser
X-WR-TIMEZONE:America/Toronto
BEGIN:VTIMEZONE
TZID:America/Toronto
X-LIC-LOCATION:America/Toronto
BEGIN:DAYLIGHT
TZNAME:EDT
TZOFFSETFROM:-0500
TZOFFSETTO:-0400
DTSTART:20210314T070000
END:DAYLIGHT
BEGIN:STANDARD
TZNAME:EST
TZOFFSETFROM:-0400
TZOFFSETTO:-0500
DTSTART:20201101T060000
END:STANDARD
END:VTIMEZONE
BEGIN:VEVENT
UID:69ebfa79b1308
DTSTART;TZID=America/Toronto:20210605T110000
SEQUENCE:0
TRANSP:TRANSPARENT
DTEND;TZID=America/Toronto:20210605T123000
URL:https://uwaterloo.ca/health/events/alumni-weekend
LOCATION:Online Canada
SUMMARY:Alumni Weekend
CLASS:PUBLIC
DESCRIPTION:Join Dean Lili Liu virtually for an engaging Dean’s Update a
 nd\nFireside Chat “Looking at the new normal” featuring Faculty of\nHe
 alth experts John Hirdes\, Marina Mourtzakis and Troy Glover.
DTSTAMP:20260424T231921Z
END:VEVENT
END:VCALENDAR