BEGIN:VCALENDAR
VERSION:2.0
PRODID:-//Drupal iCal API//EN
X-WR-CALNAME:Events items teaser
X-WR-TIMEZONE:America/Toronto
BEGIN:VTIMEZONE
TZID:America/Toronto
X-LIC-LOCATION:America/Toronto
BEGIN:DAYLIGHT
TZNAME:EDT
TZOFFSETFROM:-0500
TZOFFSETTO:-0400
DTSTART:20210314T070000
END:DAYLIGHT
BEGIN:STANDARD
TZNAME:EST
TZOFFSETFROM:-0400
TZOFFSETTO:-0500
DTSTART:20211107T060000
END:STANDARD
END:VTIMEZONE
BEGIN:VEVENT
UID:69ecb9566aacf
DTSTART;TZID=America/Toronto:20211123T120000
SEQUENCE:0
TRANSP:TRANSPARENT
DTEND;TZID=America/Toronto:20211123T130000
URL:https://uwaterloo.ca/health/events/finding-supervisor-ama-kinesiology-a
 nd-health-sciences
LOCATION:LHI - Lyle S. Hallman Institute for Health Promotion 200 Universit
 y Avenue West 1621 (SunLife Auditorium) Waterloo ON N2L 3G1 Canada
SUMMARY:Finding a supervisor AMA - Kinesiology and Health Sciences
CLASS:PUBLIC
DESCRIPTION:Interested in pursuing a research-based master's or PhD and nee
 d to\nfind a supervisor? Join us for an \"ask-me-anything\" session with\
 nKinesiology and Health Sciences faculty supervisors and graduate\nstudent
 s. They'll share their top tips and experiences. VISIT EVENT\nPAGE FOR SE
 SSION DETAILS AND TO REGISTER.
DTSTAMP:20260425T125342Z
END:VEVENT
END:VCALENDAR