BEGIN:VCALENDAR
VERSION:2.0
PRODID:-//Drupal iCal API//EN
X-WR-CALNAME:Events items teaser
X-WR-TIMEZONE:America/Toronto
BEGIN:VTIMEZONE
TZID:America/Toronto
X-LIC-LOCATION:America/Toronto
BEGIN:DAYLIGHT
TZNAME:EDT
TZOFFSETFROM:-0500
TZOFFSETTO:-0400
DTSTART:20210314T070000
END:DAYLIGHT
BEGIN:STANDARD
TZNAME:EST
TZOFFSETFROM:-0400
TZOFFSETTO:-0500
DTSTART:20211107T060000
END:STANDARD
END:VTIMEZONE
BEGIN:VEVENT
UID:69ebd4435ccf2
DTSTART;TZID=America/Toronto:20211125T120000
SEQUENCE:0
TRANSP:TRANSPARENT
DTEND;TZID=America/Toronto:20211125T130000
URL:https://uwaterloo.ca/health/events/finding-supervisor-ama-school-public
 -health-sciences
SUMMARY:Finding a supervisor AMA - School of Public Health Sciences
CLASS:PUBLIC
DESCRIPTION:Interested in pursuing a research-based master's or PhD and nee
 d to\nfind a supervisor? Join us for a VIRTUAL \"ask me anything\" sessio
 n\nwith the School of Public Health Sciences faculty supervisors and\ngra
 duate students. They'll share their top tips and\nexperiences. VISIT EVEN
 T PAGE FOR SESSION DETAILS AND TO REGISTER.
DTSTAMP:20260424T203619Z
END:VEVENT
END:VCALENDAR