BEGIN:VCALENDAR
VERSION:2.0
PRODID:-//Drupal iCal API//EN
X-WR-CALNAME:Events items teaser
X-WR-TIMEZONE:America/Toronto
BEGIN:VTIMEZONE
TZID:America/Toronto
X-LIC-LOCATION:America/Toronto
BEGIN:DAYLIGHT
TZNAME:EDT
TZOFFSETFROM:-0500
TZOFFSETTO:-0400
DTSTART:20250309T070000
END:DAYLIGHT
BEGIN:STANDARD
TZNAME:EST
TZOFFSETFROM:-0400
TZOFFSETTO:-0500
DTSTART:20241103T060000
END:STANDARD
END:VTIMEZONE
BEGIN:VEVENT
UID:69eb0347e3dd2
DTSTART;TZID=America/Toronto:20250402T130000
SEQUENCE:0
TRANSP:TRANSPARENT
DTEND;TZID=America/Toronto:20250402T140000
URL:https://uwaterloo.ca/health/events/puppy-social
LOCATION:HLTH Expansion 200 University Avenue West EXP 1686 Waterloo ON N2L
  3G1 Canada
SUMMARY:Puppy Social
CLASS:PUBLIC
DESCRIPTION:Faculty of Health students\, staff and faculty are invited to j
 oin us\nfor a stress-relieving event to spend time with a litter of puppie
 s\,\nsnap some cute photos\, and enjoy a well-deserved mental health boost
 .
DTSTAMP:20260424T054439Z
END:VEVENT
END:VCALENDAR