BEGIN:VCALENDAR
VERSION:2.0
PRODID:-//Drupal iCal API//EN
X-WR-CALNAME:Events items teaser
X-WR-TIMEZONE:America/Toronto
BEGIN:VTIMEZONE
TZID:America/Toronto
X-LIC-LOCATION:America/Toronto
BEGIN:DAYLIGHT
TZNAME:EDT
TZOFFSETFROM:-0500
TZOFFSETTO:-0400
DTSTART:20250309T070000
END:DAYLIGHT
BEGIN:STANDARD
TZNAME:EST
TZOFFSETFROM:-0400
TZOFFSETTO:-0500
DTSTART:20241103T060000
END:STANDARD
END:VTIMEZONE
BEGIN:VEVENT
UID:69e384e16da5a
DTSTART;TZID=America/Toronto:20250611T145000
SEQUENCE:0
TRANSP:TRANSPARENT
DTEND;TZID=America/Toronto:20250611T153500
URL:https://uwaterloo.ca/health/events/blood-drive-spring-2025
LOCATION:Canadian Blood Services KW 94 Bridgeport Road East Waterloo ON N2J
  2J9 Canada
SUMMARY:Blood drive - Spring 2025
CLASS:PUBLIC
DESCRIPTION:Join us as the Faculty of Health partners with Canadian Blood S
 ervices\nfor a meaningful blood donation! Be a hero in your community and 
 make\na life-changing impact for those in need.
DTSTAMP:20260418T131929Z
END:VEVENT
END:VCALENDAR