BEGIN:VCALENDAR
VERSION:2.0
PRODID:-//Drupal iCal API//EN
X-WR-CALNAME:Events items teaser
X-WR-TIMEZONE:America/Toronto
BEGIN:VTIMEZONE
TZID:America/Toronto
X-LIC-LOCATION:America/Toronto
BEGIN:DAYLIGHT
TZNAME:EDT
TZOFFSETFROM:-0500
TZOFFSETTO:-0400
DTSTART:20250309T070000
END:DAYLIGHT
BEGIN:STANDARD
TZNAME:EST
TZOFFSETFROM:-0400
TZOFFSETTO:-0500
DTSTART:20241103T060000
END:STANDARD
END:VTIMEZONE
BEGIN:VEVENT
UID:69ecaa06e684f
DTSTART;TZID=America/Toronto:20251023T163000
SEQUENCE:0
TRANSP:TRANSPARENT
DTEND;TZID=America/Toronto:20251023T183000
URL:https://uwaterloo.ca/health/events/servant-leadership-reflections-and-l
 essons-learned-49-years
LOCATION:LHI - Lyle S. Hallman Institute for Health Promotion\, Room 1621 S
 un Life Financial Auditorium 200 University Avenue West Corner of Columbia
  St. W. and Hagey Blvd. Waterloo ON N2L 3G1 Canada
SUMMARY:Servant leadership: Reflections and lessons learned from 49 years o
 f\nservice to Canada
CLASS:PUBLIC
DESCRIPTION:Judge Albert Wong has dedicated over 49 years to public service
 \,\nincluding peacekeeping roles in Afghanistan and Africa. As a\nCitizens
 hip Judge since 2014\, he has helped integrate over 300\,000 new\nCanadian
 s and advocates for inclusive immigration policies. Judge Wong\nis also an
  active volunteer\, promoting unity and social cohesion\nwithin Asian Cana
 dian communities\, and believes in the power of\ncollaboration to build a 
 stronger\, more inclusive Canada.
DTSTAMP:20260425T114822Z
END:VEVENT
END:VCALENDAR