BEGIN:VCALENDAR
VERSION:2.0
PRODID:-//Drupal iCal API//EN
X-WR-CALNAME:Events items teaser
X-WR-TIMEZONE:America/Toronto
BEGIN:VTIMEZONE
TZID:America/Toronto
X-LIC-LOCATION:America/Toronto
BEGIN:DAYLIGHT
TZNAME:EDT
TZOFFSETFROM:-0500
TZOFFSETTO:-0400
DTSTART:20260308T070000
END:DAYLIGHT
BEGIN:STANDARD
TZNAME:EST
TZOFFSETFROM:-0400
TZOFFSETTO:-0500
DTSTART:20251102T060000
END:STANDARD
END:VTIMEZONE
BEGIN:VEVENT
UID:69eb63f12ecbf
DTSTART;TZID=America/Toronto:20260330T170000
SEQUENCE:0
TRANSP:TRANSPARENT
DTEND;TZID=America/Toronto:20260330T190000
URL:https://uwaterloo.ca/health/events/faculty-health-grad-class-send-2026
LOCATION:FED - Federation Hall 200 University Avenue West Waterloo ON N2L 3
 G1 Canada
SUMMARY:Faculty of Health Grad Class Send-Off 2026
CLASS:PUBLIC
DESCRIPTION:It is a long journey from the first day you arrive on campus to
  the\nday you cross the stage at Convocation with your degree in hand. The
 \nFaculty of Health invites graduating students to this celebratory\neven
 t\, hosted in honour of your hard work\, dedication\nand accomplishments
  during your time in Health.
DTSTAMP:20260424T123705Z
END:VEVENT
END:VCALENDAR