BEGIN:VCALENDAR
VERSION:2.0
PRODID:-//Drupal iCal API//EN
X-WR-CALNAME:Events items teaser
X-WR-TIMEZONE:America/Toronto
BEGIN:VTIMEZONE
TZID:America/Toronto
X-LIC-LOCATION:America/Toronto
BEGIN:DAYLIGHT
TZNAME:EDT
TZOFFSETFROM:-0500
TZOFFSETTO:-0400
DTSTART:20230312T070000
END:DAYLIGHT
BEGIN:STANDARD
TZNAME:EST
TZOFFSETFROM:-0400
TZOFFSETTO:-0500
DTSTART:20221106T060000
END:STANDARD
END:VTIMEZONE
BEGIN:VEVENT
UID:69eaf20115fe2
DTSTART;TZID=America/Toronto:20230315T190000
SEQUENCE:0
TRANSP:TRANSPARENT
DTEND;TZID=America/Toronto:20230315T210000
URL:https://uwaterloo.ca/health/events/sex-and-sexuality-trivia
LOCATION:GH - Graduate House 200 University Avenue West Waterloo ON N2L 3G1
  Canada
SUMMARY:Sex and Sexuality Trivia
CLASS:PUBLIC
DESCRIPTION:Join us at the Grad House on March 15 at 7:00 for Sex and Sexu
 ality\nTrivia Night.  This event is open to all Faculty of Health\nunderg
 raduate students.  The event is free but registration is\nrequired.
DTSTAMP:20260424T043057Z
END:VEVENT
END:VCALENDAR