BEGIN:VCALENDAR
VERSION:2.0
PRODID:-//Drupal iCal API//EN
X-WR-CALNAME:Events items teaser
X-WR-TIMEZONE:America/Toronto
BEGIN:VTIMEZONE
TZID:America/Toronto
X-LIC-LOCATION:America/Toronto
BEGIN:DAYLIGHT
TZNAME:EDT
TZOFFSETFROM:-0500
TZOFFSETTO:-0400
DTSTART:20230312T070000
END:DAYLIGHT
BEGIN:STANDARD
TZNAME:EST
TZOFFSETFROM:-0400
TZOFFSETTO:-0500
DTSTART:20221106T060000
END:STANDARD
END:VTIMEZONE
BEGIN:VEVENT
UID:69eb6c197b506
DTSTART;TZID=America/Toronto:20230321T150000
SEQUENCE:0
TRANSP:TRANSPARENT
DTEND;TZID=America/Toronto:20230321T180000
URL:https://uwaterloo.ca/health/events/sip-n-study-0
LOCATION:Health Expansion Building 200 University Ave West EXP 1686 Waterlo
 o ON N2L 3G1 Canada
SUMMARY:Sip 'n Study
CLASS:PUBLIC
DESCRIPTION:Are you looking for a great study atmosphere to prepare for y
 our\nupcoming exams? Drop by EXP 1686 on March 21st between 3:00 p.m. –
 \n6:00 p.m. (ET) and enjoy a free hot beverage while you study! All\nHea
 lth undergraduate students are welcome! \n\nDATE: TUESDAY\, MARCH 21\, 2
 023\n\nTIME: 3:00 P.M. - 6:00 P.M. (ET)\n\nLOCATION: HEALTH EXPANSION BUIL
 DING 1686
DTSTAMP:20260424T131153Z
END:VEVENT
END:VCALENDAR