BEGIN:VCALENDAR
VERSION:2.0
PRODID:-//Drupal iCal API//EN
X-WR-CALNAME:Events items teaser
X-WR-TIMEZONE:America/Toronto
BEGIN:VTIMEZONE
TZID:America/Toronto
X-LIC-LOCATION:America/Toronto
BEGIN:DAYLIGHT
TZNAME:EDT
TZOFFSETFROM:-0500
TZOFFSETTO:-0400
DTSTART:20160313T070000
END:DAYLIGHT
BEGIN:STANDARD
TZNAME:EST
TZOFFSETFROM:-0400
TZOFFSETTO:-0500
DTSTART:20151101T060000
END:STANDARD
END:VTIMEZONE
BEGIN:VEVENT
UID:69e37f81a6fea
DTSTART;TZID=America/Toronto:20160408T110000
SEQUENCE:0
TRANSP:TRANSPARENT
DTEND;TZID=America/Toronto:20160408T120000
URL:https://uwaterloo.ca/health/events/aging-africa-challenges-and-opportun
 ities-improve-well-being
LOCATION:LHI - Lyle S. Hallman Institute for Health Promotion 200 Universit
 y Avenue West Sun Life Financial Auditorium\, LHI 1621 Waterloo ON N2L 3G1
  Canada
SUMMARY:Aging in Africa: Challenges and opportunities to improve the\nwell-
 being of older persons
CLASS:PUBLIC
DESCRIPTION:The Hallman Lecture Series welcomes Dr. Leon Geffen\, Universit
 y of\nCape Town\, Cape Town\, South Africa for an exploration of a novel\n
 psychosocial peer support program\, modelled upon an existing HIV\nsupport
  program\, for providing peer-to-peer companionship to other\nolder adults
 . Initial outcomes of the study have shown that a peer\nsupport program is
  an effective approach to improve wellbeing of older\npersons living in di
 sadvantaged communities.
DTSTAMP:20260418T125633Z
END:VEVENT
END:VCALENDAR