BEGIN:VCALENDAR
VERSION:2.0
PRODID:-//Drupal iCal API//EN
X-WR-CALNAME:Events items teaser
X-WR-TIMEZONE:America/Toronto
BEGIN:VTIMEZONE
TZID:America/Toronto
X-LIC-LOCATION:America/Toronto
BEGIN:DAYLIGHT
TZNAME:EDT
TZOFFSETFROM:-0500
TZOFFSETTO:-0400
DTSTART:20160313T070000
END:DAYLIGHT
BEGIN:STANDARD
TZNAME:EST
TZOFFSETFROM:-0400
TZOFFSETTO:-0500
DTSTART:20151101T060000
END:STANDARD
END:VTIMEZONE
BEGIN:VEVENT
UID:69e37f98e0502
DTSTART;TZID=America/Toronto:20161021T143000
SEQUENCE:0
TRANSP:TRANSPARENT
DTEND;TZID=America/Toronto:20161021T153000
URL:https://uwaterloo.ca/health/events/fries-crowd-current-studies-long-ter
 m-care-eligibility
LOCATION:AHS Expansion Building 200 University Avenue West AHS 1689 (Lectur
 e Hall) Waterloo ON N2L 3G1 Canada
SUMMARY:“Fries’” a Crowd: Current Studies of Long-Term Care Eligibili
 ty\,\nPayment\, and Poisoning
CLASS:PUBLIC
DESCRIPTION:The Hallman Lecture Series presents\n\nDr. Brant E. Fries\, Uni
 versity of Michigan\, Ann Arbor\, Michigan\, USA\n\nThis presentation cove
 rs three recent studies demonstrating a range of\napplications of assessme
 nt data. 
DTSTAMP:20260418T125656Z
END:VEVENT
END:VCALENDAR