BEGIN:VCALENDAR
VERSION:2.0
PRODID:-//Drupal iCal API//EN
X-WR-CALNAME:Events items teaser
X-WR-TIMEZONE:America/Toronto
BEGIN:VTIMEZONE
TZID:America/Toronto
X-LIC-LOCATION:America/Toronto
BEGIN:DAYLIGHT
TZNAME:EDT
TZOFFSETFROM:-0500
TZOFFSETTO:-0400
DTSTART:20240310T070000
END:DAYLIGHT
BEGIN:STANDARD
TZNAME:EST
TZOFFSETFROM:-0400
TZOFFSETTO:-0500
DTSTART:20241103T060000
END:STANDARD
END:VTIMEZONE
BEGIN:VEVENT
UID:69e663d2817b4
DTSTART;TZID=America/Toronto:20250225T120000
SEQUENCE:0
TRANSP:TRANSPARENT
DTEND;TZID=America/Toronto:20250225T130000
URL:https://uwaterloo.ca/history/events/hivaids-activism-africa-historical-
 perspectives-and-current
LOCATION:HH - J.G. Hagey Hall of the Humanities 200 University Avenue West 
 Room 117 Waterloo ON N2L 3G1 Canada
SUMMARY:HIV/AIDS Activism in Africa: Historical Perspectives and Current\nC
 hallenges
CLASS:PUBLIC
DESCRIPTION:In this talk\, Idah Mukuka Nambeya – an internationally-recog
 nized\nHIV/AIDS activist from Zambia – reflects on the history of Africa
 n\nHIV/AIDS activism and the current challenges facing community\norganiza
 tions due to the recent USAID freeze. During the 2000s\, many\ngrassroots 
 organizations relied heavily on USAID to fund their\nprograms and initiati
 ves aimed at combating the AIDS epidemic. The\nPresident's Emergency Plan 
 for AIDS Relief (PEPFAR)\, launched in 2004\,\nwas a major source of fundi
 ng and support for these organizations.\n\nHowever\, the recent freeze on 
 USAID has created a challenging\nenvironment for these organizations. Many
  have had to halt their\nactivities and programs due to a lack of funding.
  This has had a\ndirect impact on the communities they serve\, as access t
 o essential\nservices such as HIV testing\, treatment\, and prevention has
  been\ndisrupted.\n\nIn Zambia\, grassroots organizations have played a cr
 ucial role in\nraising awareness about HIV/AIDS\, providing education and 
 support to\naffected individuals\, and advocating for policy changes. The 
 USAID\nfreeze has put these efforts at risk\, making it more difficult for
 \nthese organizations to continue their work and support the communities\n
 that rely on them.
DTSTAMP:20260420T173514Z
END:VEVENT
END:VCALENDAR