BEGIN:VCALENDAR
VERSION:2.0
PRODID:-//Drupal iCal API//EN
X-WR-CALNAME:Events items teaser
X-WR-TIMEZONE:America/Toronto
BEGIN:VTIMEZONE
TZID:America/Toronto
X-LIC-LOCATION:America/Toronto
BEGIN:DAYLIGHT
TZNAME:EDT
TZOFFSETFROM:-0500
TZOFFSETTO:-0400
DTSTART:20240310T070000
END:DAYLIGHT
BEGIN:STANDARD
TZNAME:EST
TZOFFSETFROM:-0400
TZOFFSETTO:-0500
DTSTART:20241103T060000
END:STANDARD
END:VTIMEZONE
BEGIN:VEVENT
UID:69e6a4430aae1
DTSTART;TZID=America/Toronto:20250211T113000
SEQUENCE:0
TRANSP:TRANSPARENT
DTEND;TZID=America/Toronto:20250211T123000
URL:https://uwaterloo.ca/human-resources/events/keeping-well-work-caring-ab
 out-air-airborne-illness-air
SUMMARY:Keeping Well at Work: Caring about the air - Airborne illness\, air
 \nquality and staying well
CLASS:PUBLIC
DESCRIPTION:Format: _Online session_\n\nThis session will share\, in an acc
 essible\, digestible way\, the current\nstate of knowledge around airborne
  illness and how we can protect\nourselves against it\, both in our workpl
 aces and in our daily lives.\nAttendees will learn practical strategies fo
 r protecting themselves\nagainst airborne illness\, and will be introduced
  to a range of\ncommunity and campus resources they can rely upon to asses
 s the\nquality of the air and protect themselves against airborne\ntransmi
 ssion. WIN: One workshop attendee will be randomly selected to\nwin an ai
 r purifier for use in their campus space!
DTSTAMP:20260420T221011Z
END:VEVENT
END:VCALENDAR