BEGIN:VCALENDAR
VERSION:2.0
PRODID:-//Drupal iCal API//EN
X-WR-CALNAME:Events items teaser
X-WR-TIMEZONE:America/Toronto
BEGIN:VTIMEZONE
TZID:America/Toronto
X-LIC-LOCATION:America/Toronto
BEGIN:DAYLIGHT
TZNAME:EDT
TZOFFSETFROM:-0500
TZOFFSETTO:-0400
DTSTART:20250309T070000
END:DAYLIGHT
BEGIN:STANDARD
TZNAME:EST
TZOFFSETFROM:-0400
TZOFFSETTO:-0500
DTSTART:20241103T060000
END:STANDARD
END:VTIMEZONE
BEGIN:VEVENT
UID:69e3cb7d31102
DTSTART;TZID=America/Toronto:20250821T130000
SEQUENCE:0
TRANSP:TRANSPARENT
DTEND;TZID=America/Toronto:20250821T140000
URL:https://uwaterloo.ca/human-resources/events/keeping-well-work-emotional
 -effects-retirement
SUMMARY:Keeping Well at Work: The Emotional Effects of Retirement
CLASS:PUBLIC
DESCRIPTION:Format: _Online session_\n\nPlanning to retire can be a source
  of both excitement and anxiety.\nWhatever the emotional response\, retire
 ment marks a transition to a\nnew life stage and lifestyle in which daily 
 routines\, identity\, and\nroles all change. This session will introduce p
 articipants to the\nemotional effects of retirement. Participants will get
  an opportunity\nto reflect on what their ideal retirement looks like and 
 what they can\ndo to make it happen. Join us for this one-hour virtual ses
 sion\nprovided by Homewood Health.
DTSTAMP:20260418T182045Z
END:VEVENT
END:VCALENDAR