BEGIN:VCALENDAR
VERSION:2.0
PRODID:-//Drupal iCal API//EN
X-WR-CALNAME:Events items teaser
X-WR-TIMEZONE:America/Toronto
BEGIN:VTIMEZONE
TZID:America/Toronto
X-LIC-LOCATION:America/Toronto
BEGIN:DAYLIGHT
TZNAME:EDT
TZOFFSETFROM:-0500
TZOFFSETTO:-0400
DTSTART:20250309T070000
END:DAYLIGHT
BEGIN:STANDARD
TZNAME:EST
TZOFFSETFROM:-0400
TZOFFSETTO:-0500
DTSTART:20241103T060000
END:STANDARD
END:VTIMEZONE
BEGIN:VEVENT
UID:69e4c9853025a
DTSTART;TZID=America/Toronto:20250707T130000
SEQUENCE:0
TRANSP:TRANSPARENT
DTEND;TZID=America/Toronto:20250707T133000
URL:https://uwaterloo.ca/human-resources/events/workday-recruiting-demo-ses
 sion-employees
SUMMARY:Workday Recruiting Demo Session (for employees)
CLASS:PUBLIC
DTSTAMP:20260419T122437Z
END:VEVENT
BEGIN:VEVENT
UID:69e4c98532f98
DTSTART;TZID=America/Toronto:20250711T100000
SEQUENCE:0
TRANSP:TRANSPARENT
DTEND;TZID=America/Toronto:20250711T103000
URL:https://uwaterloo.ca/human-resources/events/workday-recruiting-demo-ses
 sion-employees
SUMMARY:Workday Recruiting Demo Session (for employees)
CLASS:PUBLIC
DTSTAMP:20260419T122437Z
END:VEVENT
END:VCALENDAR