BEGIN:VCALENDAR
VERSION:2.0
PRODID:-//Drupal iCal API//EN
X-WR-CALNAME:Events items teaser
X-WR-TIMEZONE:America/Toronto
BEGIN:VTIMEZONE
TZID:America/Toronto
X-LIC-LOCATION:America/Toronto
BEGIN:DAYLIGHT
TZNAME:EDT
TZOFFSETFROM:-0500
TZOFFSETTO:-0400
DTSTART:20250309T070000
END:DAYLIGHT
BEGIN:STANDARD
TZNAME:EST
TZOFFSETFROM:-0400
TZOFFSETTO:-0500
DTSTART:20241103T060000
END:STANDARD
BEGIN:STANDARD
TZNAME:EST
TZOFFSETFROM:-0400
TZOFFSETTO:-0500
DTSTART:20251102T060000
END:STANDARD
END:VTIMEZONE
BEGIN:VEVENT
UID:69ec185ee22ad
DTSTART;TZID=America/Toronto:20251030T100000
SEQUENCE:0
TRANSP:TRANSPARENT
DTEND;TZID=America/Toronto:20251030T120000
URL:https://uwaterloo.ca/human-resources/events/leading-flexibility-support
 ing-your-teams-flexible-work-0
LOCATION:EC1 - East Campus 1 200 University Ave West Waterloo ON N2L 3G1 Ca
 nada
SUMMARY:Leading with Flexibility: Supporting Your Teams in a Flexible Work\
 nEnvironment
CLASS:PUBLIC
DESCRIPTION:Format: _In-person and online workshop options_\n\nManagers and
  leaders play a key role in building a culture of\nflexibility by guiding 
 and supporting teams through shifting\nexpectations\, fostering trust and 
 accountability\, and ensuring service\nexcellence while thoughtfully incor
 porating flexibility where it makes\nsense. \n\nThis session will help ma
 nagers explore their role in creating a\nculture of trust\, inclusion\, an
 d connections while balancing\noperational needs. Participants will gain s
 trategies for navigating\nchallenges such as perceptions of equity\, perfo
 rmance\, development and\ncomplex work requests\, using decision-making ap
 proaches grounded in\nour values\, clear communication and practical tools
 .  
DTSTAMP:20260425T012654Z
END:VEVENT
BEGIN:VEVENT
UID:69ec185ee6a33
DTSTART;TZID=America/Toronto:20251104T100000
SEQUENCE:0
TRANSP:TRANSPARENT
DTEND;TZID=America/Toronto:20251104T120000
URL:https://uwaterloo.ca/human-resources/events/leading-flexibility-support
 ing-your-teams-flexible-work-0
LOCATION:EC1 - East Campus 1 200 University Ave West Waterloo ON N2L 3G1 Ca
 nada
SUMMARY:Leading with Flexibility: Supporting Your Teams in a Flexible Work\
 nEnvironment
CLASS:PUBLIC
DESCRIPTION:Format: _In-person and online workshop options_\n\nManagers and
  leaders play a key role in building a culture of\nflexibility by guiding 
 and supporting teams through shifting\nexpectations\, fostering trust and 
 accountability\, and ensuring service\nexcellence while thoughtfully incor
 porating flexibility where it makes\nsense. \n\nThis session will help ma
 nagers explore their role in creating a\nculture of trust\, inclusion\, an
 d connections while balancing\noperational needs. Participants will gain s
 trategies for navigating\nchallenges such as perceptions of equity\, perfo
 rmance\, development and\ncomplex work requests\, using decision-making ap
 proaches grounded in\nour values\, clear communication and practical tools
 .  
DTSTAMP:20260425T012654Z
END:VEVENT
BEGIN:VEVENT
UID:69ec185ee7aa1
DTSTART;TZID=America/Toronto:20251106T130000
SEQUENCE:0
TRANSP:TRANSPARENT
DTEND;TZID=America/Toronto:20251106T150000
URL:https://uwaterloo.ca/human-resources/events/leading-flexibility-support
 ing-your-teams-flexible-work-0
LOCATION:EC1 - East Campus 1 200 University Ave West Waterloo ON N2L 3G1 Ca
 nada
SUMMARY:Leading with Flexibility: Supporting Your Teams in a Flexible Work\
 nEnvironment
CLASS:PUBLIC
DESCRIPTION:Format: _In-person and online workshop options_\n\nManagers and
  leaders play a key role in building a culture of\nflexibility by guiding 
 and supporting teams through shifting\nexpectations\, fostering trust and 
 accountability\, and ensuring service\nexcellence while thoughtfully incor
 porating flexibility where it makes\nsense. \n\nThis session will help ma
 nagers explore their role in creating a\nculture of trust\, inclusion\, an
 d connections while balancing\noperational needs. Participants will gain s
 trategies for navigating\nchallenges such as perceptions of equity\, perfo
 rmance\, development and\ncomplex work requests\, using decision-making ap
 proaches grounded in\nour values\, clear communication and practical tools
 .  
DTSTAMP:20260425T012654Z
END:VEVENT
BEGIN:VEVENT
UID:69ec185ee86a2
DTSTART;TZID=America/Toronto:20251110T100000
SEQUENCE:0
TRANSP:TRANSPARENT
DTEND;TZID=America/Toronto:20251110T120000
URL:https://uwaterloo.ca/human-resources/events/leading-flexibility-support
 ing-your-teams-flexible-work-0
LOCATION:EC1 - East Campus 1 200 University Ave West Waterloo ON N2L 3G1 Ca
 nada
SUMMARY:Leading with Flexibility: Supporting Your Teams in a Flexible Work\
 nEnvironment
CLASS:PUBLIC
DESCRIPTION:Format: _In-person and online workshop options_\n\nManagers and
  leaders play a key role in building a culture of\nflexibility by guiding 
 and supporting teams through shifting\nexpectations\, fostering trust and 
 accountability\, and ensuring service\nexcellence while thoughtfully incor
 porating flexibility where it makes\nsense. \n\nThis session will help ma
 nagers explore their role in creating a\nculture of trust\, inclusion\, an
 d connections while balancing\noperational needs. Participants will gain s
 trategies for navigating\nchallenges such as perceptions of equity\, perfo
 rmance\, development and\ncomplex work requests\, using decision-making ap
 proaches grounded in\nour values\, clear communication and practical tools
 .  
DTSTAMP:20260425T012654Z
END:VEVENT
BEGIN:VEVENT
UID:69ec185ee9239
DTSTART;TZID=America/Toronto:20251113T130000
SEQUENCE:0
TRANSP:TRANSPARENT
DTEND;TZID=America/Toronto:20251113T150000
URL:https://uwaterloo.ca/human-resources/events/leading-flexibility-support
 ing-your-teams-flexible-work-0
LOCATION:EC1 - East Campus 1 200 University Ave West Waterloo ON N2L 3G1 Ca
 nada
SUMMARY:Leading with Flexibility: Supporting Your Teams in a Flexible Work\
 nEnvironment
CLASS:PUBLIC
DESCRIPTION:Format: _In-person and online workshop options_\n\nManagers and
  leaders play a key role in building a culture of\nflexibility by guiding 
 and supporting teams through shifting\nexpectations\, fostering trust and 
 accountability\, and ensuring service\nexcellence while thoughtfully incor
 porating flexibility where it makes\nsense. \n\nThis session will help ma
 nagers explore their role in creating a\nculture of trust\, inclusion\, an
 d connections while balancing\noperational needs. Participants will gain s
 trategies for navigating\nchallenges such as perceptions of equity\, perfo
 rmance\, development and\ncomplex work requests\, using decision-making ap
 proaches grounded in\nour values\, clear communication and practical tools
 .  
DTSTAMP:20260425T012654Z
END:VEVENT
BEGIN:VEVENT
UID:69ec185ee9f3e
DTSTART;TZID=America/Toronto:20251117T100000
SEQUENCE:0
TRANSP:TRANSPARENT
DTEND;TZID=America/Toronto:20251117T120000
URL:https://uwaterloo.ca/human-resources/events/leading-flexibility-support
 ing-your-teams-flexible-work-0
LOCATION:EC1 - East Campus 1 200 University Ave West Waterloo ON N2L 3G1 Ca
 nada
SUMMARY:Leading with Flexibility: Supporting Your Teams in a Flexible Work\
 nEnvironment
CLASS:PUBLIC
DESCRIPTION:Format: _In-person and online workshop options_\n\nManagers and
  leaders play a key role in building a culture of\nflexibility by guiding 
 and supporting teams through shifting\nexpectations\, fostering trust and 
 accountability\, and ensuring service\nexcellence while thoughtfully incor
 porating flexibility where it makes\nsense. \n\nThis session will help ma
 nagers explore their role in creating a\nculture of trust\, inclusion\, an
 d connections while balancing\noperational needs. Participants will gain s
 trategies for navigating\nchallenges such as perceptions of equity\, perfo
 rmance\, development and\ncomplex work requests\, using decision-making ap
 proaches grounded in\nour values\, clear communication and practical tools
 .  
DTSTAMP:20260425T012654Z
END:VEVENT
END:VCALENDAR