BEGIN:VCALENDAR
VERSION:2.0
PRODID:-//Drupal iCal API//EN
X-WR-CALNAME:Events items teaser
X-WR-TIMEZONE:America/Toronto
BEGIN:VTIMEZONE
TZID:America/Toronto
X-LIC-LOCATION:America/Toronto
BEGIN:DAYLIGHT
TZNAME:EDT
TZOFFSETFROM:-0500
TZOFFSETTO:-0400
DTSTART:20250309T070000
END:DAYLIGHT
BEGIN:STANDARD
TZNAME:EST
TZOFFSETFROM:-0400
TZOFFSETTO:-0500
DTSTART:20251102T060000
END:STANDARD
END:VTIMEZONE
BEGIN:VEVENT
UID:69ec1862df43c
DTSTART;TZID=America/Toronto:20251124T100000
SEQUENCE:0
TRANSP:TRANSPARENT
DTEND;TZID=America/Toronto:20251124T120000
URL:https://uwaterloo.ca/human-resources/events/succeeding-flexibility-navi
 gating-our-flexible-work
LOCATION:EC1 - East Campus 1 200 University Ave West Waterloo ON N2L 3G1 Ca
 nada
SUMMARY:Succeeding with Flexibility: Navigating Our Flexible Work Environme
 nt
CLASS:PUBLIC
DESCRIPTION:Format:_ In-person and online workshop options_\n\nFlexibility 
 in the workplace involves adapting routines\, expectations\,\nand ways of 
 working to make the most of both on-campus presence and\nflexible arrangem
 ents. Employees contribute to a culture of\nflexibility by building trust\
 , communicating openly\, supporting\ncolleagues\, and taking accountabilit
 y for their role in supporting\nteam and organizational success. \n\nThis
  session will help participants navigate shifting expectations\nwhile main
 taining strong communication\, connections\, and\ncollaboration. Employees
  will gain strategies for balancing personal\nwell-being with productivity
 \, and for contributing to a culture of\ntrust\, inclusion\, and accountab
 ility within their teams. They will\nalso explore engaging in effective co
 nversations with managers about\nflexible work needs and arrangements.  
DTSTAMP:20260425T012658Z
END:VEVENT
BEGIN:VEVENT
UID:69ec1862e3451
DTSTART;TZID=America/Toronto:20251208T100000
SEQUENCE:0
TRANSP:TRANSPARENT
DTEND;TZID=America/Toronto:20251208T120000
URL:https://uwaterloo.ca/human-resources/events/succeeding-flexibility-navi
 gating-our-flexible-work
LOCATION:EC1 - East Campus 1 200 University Ave West Waterloo ON N2L 3G1 Ca
 nada
SUMMARY:Succeeding with Flexibility: Navigating Our Flexible Work Environme
 nt
CLASS:PUBLIC
DESCRIPTION:Format:_ In-person and online workshop options_\n\nFlexibility 
 in the workplace involves adapting routines\, expectations\,\nand ways of 
 working to make the most of both on-campus presence and\nflexible arrangem
 ents. Employees contribute to a culture of\nflexibility by building trust\
 , communicating openly\, supporting\ncolleagues\, and taking accountabilit
 y for their role in supporting\nteam and organizational success. \n\nThis
  session will help participants navigate shifting expectations\nwhile main
 taining strong communication\, connections\, and\ncollaboration. Employees
  will gain strategies for balancing personal\nwell-being with productivity
 \, and for contributing to a culture of\ntrust\, inclusion\, and accountab
 ility within their teams. They will\nalso explore engaging in effective co
 nversations with managers about\nflexible work needs and arrangements.  
DTSTAMP:20260425T012658Z
END:VEVENT
BEGIN:VEVENT
UID:69ec1862e4169
DTSTART;TZID=America/Toronto:20251210T130000
SEQUENCE:0
TRANSP:TRANSPARENT
DTEND;TZID=America/Toronto:20251210T150000
URL:https://uwaterloo.ca/human-resources/events/succeeding-flexibility-navi
 gating-our-flexible-work
LOCATION:EC1 - East Campus 1 200 University Ave West Waterloo ON N2L 3G1 Ca
 nada
SUMMARY:Succeeding with Flexibility: Navigating Our Flexible Work Environme
 nt
CLASS:PUBLIC
DESCRIPTION:Format:_ In-person and online workshop options_\n\nFlexibility 
 in the workplace involves adapting routines\, expectations\,\nand ways of 
 working to make the most of both on-campus presence and\nflexible arrangem
 ents. Employees contribute to a culture of\nflexibility by building trust\
 , communicating openly\, supporting\ncolleagues\, and taking accountabilit
 y for their role in supporting\nteam and organizational success. \n\nThis
  session will help participants navigate shifting expectations\nwhile main
 taining strong communication\, connections\, and\ncollaboration. Employees
  will gain strategies for balancing personal\nwell-being with productivity
 \, and for contributing to a culture of\ntrust\, inclusion\, and accountab
 ility within their teams. They will\nalso explore engaging in effective co
 nversations with managers about\nflexible work needs and arrangements.  
DTSTAMP:20260425T012658Z
END:VEVENT
BEGIN:VEVENT
UID:69ec1862e4dae
DTSTART;TZID=America/Toronto:20251212T100000
SEQUENCE:0
TRANSP:TRANSPARENT
DTEND;TZID=America/Toronto:20251212T120000
URL:https://uwaterloo.ca/human-resources/events/succeeding-flexibility-navi
 gating-our-flexible-work
LOCATION:EC1 - East Campus 1 200 University Ave West Waterloo ON N2L 3G1 Ca
 nada
SUMMARY:Succeeding with Flexibility: Navigating Our Flexible Work Environme
 nt
CLASS:PUBLIC
DESCRIPTION:Format:_ In-person and online workshop options_\n\nFlexibility 
 in the workplace involves adapting routines\, expectations\,\nand ways of 
 working to make the most of both on-campus presence and\nflexible arrangem
 ents. Employees contribute to a culture of\nflexibility by building trust\
 , communicating openly\, supporting\ncolleagues\, and taking accountabilit
 y for their role in supporting\nteam and organizational success. \n\nThis
  session will help participants navigate shifting expectations\nwhile main
 taining strong communication\, connections\, and\ncollaboration. Employees
  will gain strategies for balancing personal\nwell-being with productivity
 \, and for contributing to a culture of\ntrust\, inclusion\, and accountab
 ility within their teams. They will\nalso explore engaging in effective co
 nversations with managers about\nflexible work needs and arrangements.  
DTSTAMP:20260425T012658Z
END:VEVENT
END:VCALENDAR