BEGIN:VCALENDAR
VERSION:2.0
PRODID:-//Drupal iCal API//EN
X-WR-CALNAME:Events items teaser
X-WR-TIMEZONE:America/Toronto
BEGIN:VTIMEZONE
TZID:America/Toronto
X-LIC-LOCATION:America/Toronto
BEGIN:DAYLIGHT
TZNAME:EDT
TZOFFSETFROM:-0500
TZOFFSETTO:-0400
DTSTART:20250309T070000
END:DAYLIGHT
BEGIN:STANDARD
TZNAME:EST
TZOFFSETFROM:-0400
TZOFFSETTO:-0500
DTSTART:20251102T060000
END:STANDARD
END:VTIMEZONE
BEGIN:VEVENT
UID:69e2ce345d992
DTSTART;TZID=America/Toronto:20251209T110000
SEQUENCE:0
TRANSP:TRANSPARENT
DTEND;TZID=America/Toronto:20251209T120000
URL:https://uwaterloo.ca/human-resources/events/keeping-well-work-establish
 ing-healthy-boundaries
SUMMARY:Keeping Well at Work: Establishing Healthy Boundaries with\nAsserti
 veness
CLASS:PUBLIC
DESCRIPTION:Format: _Online session_\n\nMany of us face challenges setting
  appropriate boundaries when\ncompeting values\, goals and priorities exis
 t. This session will\nexplore the benefits of setting and maintaining heal
 thy boundaries and\noutline practical strategies for doing so with confide
 nce\, empathy and\nself-compassion.\n\nJoin us for this one-hour virtual s
 ession provided by Homewood Health.
DTSTAMP:20260418T002004Z
END:VEVENT
END:VCALENDAR