BEGIN:VCALENDAR
VERSION:2.0
PRODID:-//Drupal iCal API//EN
X-WR-CALNAME:Events items teaser
X-WR-TIMEZONE:America/Toronto
BEGIN:VTIMEZONE
TZID:America/Toronto
X-LIC-LOCATION:America/Toronto
BEGIN:DAYLIGHT
TZNAME:EDT
TZOFFSETFROM:-0500
TZOFFSETTO:-0400
DTSTART:20260308T070000
END:DAYLIGHT
BEGIN:STANDARD
TZNAME:EST
TZOFFSETFROM:-0400
TZOFFSETTO:-0500
DTSTART:20251102T060000
END:STANDARD
END:VTIMEZONE
BEGIN:VEVENT
UID:69ec191ceb3dd
DTSTART;TZID=America/Toronto:20260506T140000
SEQUENCE:0
TRANSP:TRANSPARENT
DTEND;TZID=America/Toronto:20260506T160000
URL:https://uwaterloo.ca/human-resources/events/performance-development-pro
 gram-managers-overview
SUMMARY:Performance Development Program: A Manager’s Overview
CLASS:PUBLIC
DESCRIPTION:This session is designed for managers to come together and lear
 n what\nthe new Performance Development Program means for them and their\n
 direct reports. Now that you’ve gained access to the components in\nWork
 day\, this session offers the opportunity to bring your laptop and\nengage
  in a guided\, manager level conversation with your peers for a\ndeeper di
 ve into the performance development process. 
DTSTAMP:20260425T013004Z
END:VEVENT
BEGIN:VEVENT
UID:69ec191cee4b8
DTSTART;TZID=America/Toronto:20260508T093000
SEQUENCE:0
TRANSP:TRANSPARENT
DTEND;TZID=America/Toronto:20260508T113000
URL:https://uwaterloo.ca/human-resources/events/performance-development-pro
 gram-managers-overview
SUMMARY:Performance Development Program: A Manager’s Overview
CLASS:PUBLIC
DESCRIPTION:This session is designed for managers to come together and lear
 n what\nthe new Performance Development Program means for them and their\n
 direct reports. Now that you’ve gained access to the components in\nWork
 day\, this session offers the opportunity to bring your laptop and\nengage
  in a guided\, manager level conversation with your peers for a\ndeeper di
 ve into the performance development process. 
DTSTAMP:20260425T013004Z
END:VEVENT
BEGIN:VEVENT
UID:69ec191ceede5
DTSTART;TZID=America/Toronto:20260512T140000
SEQUENCE:0
TRANSP:TRANSPARENT
DTEND;TZID=America/Toronto:20260512T160000
URL:https://uwaterloo.ca/human-resources/events/performance-development-pro
 gram-managers-overview
SUMMARY:Performance Development Program: A Manager’s Overview
CLASS:PUBLIC
DESCRIPTION:This session is designed for managers to come together and lear
 n what\nthe new Performance Development Program means for them and their\n
 direct reports. Now that you’ve gained access to the components in\nWork
 day\, this session offers the opportunity to bring your laptop and\nengage
  in a guided\, manager level conversation with your peers for a\ndeeper di
 ve into the performance development process. 
DTSTAMP:20260425T013004Z
END:VEVENT
BEGIN:VEVENT
UID:69ec191cef664
DTSTART;TZID=America/Toronto:20260515T093000
SEQUENCE:0
TRANSP:TRANSPARENT
DTEND;TZID=America/Toronto:20260515T113000
URL:https://uwaterloo.ca/human-resources/events/performance-development-pro
 gram-managers-overview
SUMMARY:Performance Development Program: A Manager’s Overview
CLASS:PUBLIC
DESCRIPTION:This session is designed for managers to come together and lear
 n what\nthe new Performance Development Program means for them and their\n
 direct reports. Now that you’ve gained access to the components in\nWork
 day\, this session offers the opportunity to bring your laptop and\nengage
  in a guided\, manager level conversation with your peers for a\ndeeper di
 ve into the performance development process. 
DTSTAMP:20260425T013004Z
END:VEVENT
BEGIN:VEVENT
UID:69ec191cefeb4
DTSTART;TZID=America/Toronto:20260521T100000
SEQUENCE:0
TRANSP:TRANSPARENT
DTEND;TZID=America/Toronto:20260521T120000
URL:https://uwaterloo.ca/human-resources/events/performance-development-pro
 gram-managers-overview
SUMMARY:Performance Development Program: A Manager’s Overview
CLASS:PUBLIC
DESCRIPTION:This session is designed for managers to come together and lear
 n what\nthe new Performance Development Program means for them and their\n
 direct reports. Now that you’ve gained access to the components in\nWork
 day\, this session offers the opportunity to bring your laptop and\nengage
  in a guided\, manager level conversation with your peers for a\ndeeper di
 ve into the performance development process. 
DTSTAMP:20260425T013004Z
END:VEVENT
BEGIN:VEVENT
UID:69ec191cf0770
DTSTART;TZID=America/Toronto:20260602T100000
SEQUENCE:0
TRANSP:TRANSPARENT
DTEND;TZID=America/Toronto:20260602T120000
URL:https://uwaterloo.ca/human-resources/events/performance-development-pro
 gram-managers-overview
SUMMARY:Performance Development Program: A Manager’s Overview
CLASS:PUBLIC
DESCRIPTION:This session is designed for managers to come together and lear
 n what\nthe new Performance Development Program means for them and their\n
 direct reports. Now that you’ve gained access to the components in\nWork
 day\, this session offers the opportunity to bring your laptop and\nengage
  in a guided\, manager level conversation with your peers for a\ndeeper di
 ve into the performance development process. 
DTSTAMP:20260425T013004Z
END:VEVENT
END:VCALENDAR