BEGIN:VCALENDAR
VERSION:2.0
PRODID:-//Drupal iCal API//EN
X-WR-CALNAME:Events items teaser
X-WR-TIMEZONE:America/Toronto
BEGIN:VTIMEZONE
TZID:America/Toronto
X-LIC-LOCATION:America/Toronto
BEGIN:DAYLIGHT
TZNAME:EDT
TZOFFSETFROM:-0500
TZOFFSETTO:-0400
DTSTART:20220313T070000
END:DAYLIGHT
BEGIN:STANDARD
TZNAME:EST
TZOFFSETFROM:-0400
TZOFFSETTO:-0500
DTSTART:20211107T060000
END:STANDARD
END:VTIMEZONE
BEGIN:VEVENT
UID:69e89fef49296
DTSTART;TZID=America/Toronto:20220629T120000
SEQUENCE:0
TRANSP:TRANSPARENT
DTEND;TZID=America/Toronto:20220629T130000
URL:https://uwaterloo.ca/indigenous/events/bmaadziwin-indigenous-perspectiv
 e-life
LOCATION:LHS 1621 - Lyle S. Hallman South - Sunlife Auditorium 200 Universi
 ty Avenue West Waterloo ON N2L 3G1 Canada
SUMMARY:Bmaadziwin: An Indigenous Perspective of Life
CLASS:PUBLIC
DESCRIPTION:Facilitated by Knowledge Keeper Myeengun Henry\, This event is
  part of\na series that is hosted once per term by the Decolonizing UW Hea
 lth\nStudies Working Group comprised of UW’s Schools of Pharmacy\, Socia
 l\nWork\, Optometry and Public Health. All members of the UW community -\n
 faculty\, staff and students – are welcome.
DTSTAMP:20260422T101615Z
END:VEVENT
END:VCALENDAR