BEGIN:VCALENDAR
VERSION:2.0
PRODID:-//Drupal iCal API//EN
X-WR-CALNAME:Events items teaser
X-WR-TIMEZONE:America/Toronto
BEGIN:VTIMEZONE
TZID:America/Toronto
X-LIC-LOCATION:America/Toronto
BEGIN:DAYLIGHT
TZNAME:EDT
TZOFFSETFROM:-0500
TZOFFSETTO:-0400
DTSTART:20230312T070000
END:DAYLIGHT
BEGIN:STANDARD
TZNAME:EST
TZOFFSETFROM:-0400
TZOFFSETTO:-0500
DTSTART:20231105T060000
END:STANDARD
END:VTIMEZONE
BEGIN:VEVENT
UID:69e89a5354c01
DTSTART;TZID=America/Toronto:20240118T120000
SEQUENCE:0
TRANSP:TRANSPARENT
DTEND;TZID=America/Toronto:20240118T130000
URL:https://uwaterloo.ca/indigenous/events/indigenous-student-listening-ses
 sion-3-new-peer-mentorship
SUMMARY:Indigenous Student Listening Session 3 (New Peer Mentorship Program
 )
CLASS:PUBLIC
DESCRIPTION:We need your voice and input in the creation of the new Faculty
 -Based\nIndigenous Peer Mentorship Program. With your help we will be able
  to\ncreate a Mentorship Program that will help ease the transition of\nIn
 digenous Students into Post-Secondary.\n\nWe will be hosting listening ses
 sions to give you the opportunity to\nvoice your ideas in what the program
  needs\, how we should implement\nit\, and what the best form of training 
 is.
DTSTAMP:20260422T095219Z
END:VEVENT
END:VCALENDAR