BEGIN:VCALENDAR
VERSION:2.0
PRODID:-//Drupal iCal API//EN
X-WR-CALNAME:Events items teaser
X-WR-TIMEZONE:America/Toronto
BEGIN:VTIMEZONE
TZID:America/Toronto
X-LIC-LOCATION:America/Toronto
BEGIN:DAYLIGHT
TZNAME:EDT
TZOFFSETFROM:-0500
TZOFFSETTO:-0400
DTSTART:20240310T070000
END:DAYLIGHT
BEGIN:STANDARD
TZNAME:EST
TZOFFSETFROM:-0400
TZOFFSETTO:-0500
DTSTART:20241103T060000
END:STANDARD
END:VTIMEZONE
BEGIN:VEVENT
UID:69e89a537c70c
DTSTART;TZID=America/Toronto:20250116T130000
SEQUENCE:0
TRANSP:TRANSPARENT
DTEND;TZID=America/Toronto:20250116T160000
URL:https://uwaterloo.ca/indigenous/events/you-dont-know-what-you-dont-know
 -ela-smith
SUMMARY:You Don't Know What You Don't Know with Ela Smith
CLASS:PUBLIC
DESCRIPTION:This is a three-part workshop that journeys through First Natio
 ns\,\nInuit\, and Métis relations with settlers. As the title indicates\,
  you\ndon't know what you don't know so everyone is welcome. You will be\n
 introduced to the concept of Miskasowin (wholistic self-evaluation)\nthat 
 will define content\, context\, and relationship promoting further\naction
 \, accountability\, and responsibilities as a treaty person in\nthis land 
 now known as Canada. This is an online\, 3-hour workshop\,\nin a small-g
 roup setting.\n\n_Hosted by the Office of Indigenous Relations\, facilitat
 ed by Ela\nSmith. _
DTSTAMP:20260422T095219Z
END:VEVENT
END:VCALENDAR