BEGIN:VCALENDAR
VERSION:2.0
PRODID:-//Drupal iCal API//EN
X-WR-CALNAME:Events items teaser
X-WR-TIMEZONE:America/Toronto
BEGIN:VTIMEZONE
TZID:America/Toronto
X-LIC-LOCATION:America/Toronto
BEGIN:DAYLIGHT
TZNAME:EDT
TZOFFSETFROM:-0500
TZOFFSETTO:-0400
DTSTART:20250309T070000
END:DAYLIGHT
BEGIN:STANDARD
TZNAME:EST
TZOFFSETFROM:-0400
TZOFFSETTO:-0500
DTSTART:20241103T060000
END:STANDARD
END:VTIMEZONE
BEGIN:VEVENT
UID:69e8976f32496
DTSTART;TZID=America/Toronto:20250930T070000
SEQUENCE:0
TRANSP:TRANSPARENT
DTEND;TZID=America/Toronto:20250930T130000
URL:https://uwaterloo.ca/indigenous/events/national-day-truth-and-reconcili
 ation-2025
LOCATION:BMH - B.C. Matthews Hall Green 200 University Avenue West Waterloo
  ON N2L 3G1 Canada
SUMMARY:National Day for Truth and Reconciliation 2025
CLASS:PUBLIC
DESCRIPTION:September 30th marks the National Day for Truth and Reconciliat
 ion.\n\nWe invite and encourage all members of the University community to
 \nattend and observe all of the ceremonies throughout the day as\ntheir
  schedule allows.  
DTSTAMP:20260422T093959Z
END:VEVENT
END:VCALENDAR